BEGIN:VCALENDAR
VERSION:2.0
PRODID:-//ChamberMaster//Event Calendar 2.0//EN
METHOD:PUBLISH
X-PUBLISHED-TTL:P3D
REFRESH-INTERVAL:P3D
CALSCALE:GREGORIAN
BEGIN:VEVENT
DTSTART:20100923T210000Z
DTEND:20100923T223000Z
X-MICROSOFT-CDO-ALLDAYEVENT:FALSE
SUMMARY:2010 September LLAB Alumni ''Networking for Success''
DESCRIPTION:
X-ALT-DESC;FMTTYPE=text/html:
LOCATION:North Chamber
UID:e.2020.746
SEQUENCE:3
DTSTAMP:20260422T193156Z
URL:https://cm-dev.metrosa.com/events/details/2010-september-llab-alumni-networking-for-success-09-23-2010-746
END:VEVENT

END:VCALENDAR
