BEGIN:VCALENDAR
VERSION:2.0
PRODID:-//ChamberMaster//Event Calendar 2.0//EN
METHOD:PUBLISH
X-PUBLISHED-TTL:P3D
REFRESH-INTERVAL:P3D
CALSCALE:GREGORIAN
BEGIN:VEVENT
DTSTART:20100322T130000Z
DTEND:20100401T220000Z
X-MICROSOFT-CDO-ALLDAYEVENT:FALSE
SUMMARY:2010 Small Business Leaders Awards - CALL FOR NOMINATIONS
DESCRIPTION:Call for Nominations! Deadline is Thursday\, April 1st\, 5:00pm. Nominees are individuals who… o        Are small business owners and/or partners or major stockholders of a small business.o        Are active in their business' day-to-day activity and involved in the major decision making process.  o        Demonstrate that their businesses are financially stable.o        Reside within Atascosa\, Bandera\, Bexar\, Comal\, Guadalupe\, Kendall\, Medina or Wilson County.o        Are employed within Bexar County.o        Employ 99 or less full-time employees. o        Are not current members of the North Chamber Board of Directors. o        Submit completed forms to North Chamber by deadline date/time of Thursday\, April 1\, 2010\, 5:00 p.m. o        Agree to attend the Small Business Leaders Awards on Thursday\, July 8\, 2010\, at the Hilton San Antonio-Airport. o        Agree to provide the North Chamber photos and biographies for video production. o        Have not received the following awards: Career Achievement\, Overall Small Business Leader of the Year\, Small Business Leader of the Year. NOMINEE: FINALISTS WILL BE NOTIFIED BY MONDAY\, April 26\, 2010 (5:00 p.m.) To download form\, click here
X-ALT-DESC;FMTTYPE=text/html:<DIV>Call for Nominations! Deadline is Thursday\, April 1st\, 5:00pm.</DIV><DIV>&nbsp\;</DIV><DIV><P class=MsoNormal style="MARGIN: 0in 0in 0pt\; LINE-HEIGHT: 150%\; TEXT-ALIGN: justify"><B style="mso-bidi-font-weight: normal"><I style="mso-bidi-font-style: normal"><SPAN style="COLOR: #81562b">Nominees are individuals who… <?xml:namespace prefix = o ns = "urn:schemas-microsoft-com:office:office" /><o:p></o:p></SPAN></I></B></P><P class=MsoNormal style="MARGIN: 0in 0in 0pt 0.5in\; TEXT-INDENT: -0.25in\; LINE-HEIGHT: 120%\; TEXT-ALIGN: justify\; mso-list: l0 level1 lfo1\; tab-stops: list .5in"><FONT face=Arial><FONT size=3><SPAN style="FONT-SIZE: 9.5pt\; LINE-HEIGHT: 120%\; FONT-FAMILY: 'Courier New'\; mso-fareast-font-family: 'Courier New'"><SPAN style="mso-list: Ignore">o<SPAN style="FONT: 7pt 'Times New Roman'">&nbsp\;&nbsp\;&nbsp\;&nbsp\;&nbsp\;&nbsp\;&nbsp\; </SPAN></SPAN></SPAN><SPAN style="FONT-SIZE: 9.5pt\; LINE-HEIGHT: 120%">Are small business owners and/or partners or major stockholders of a small business.<o:p></o:p></SPAN></FONT></FONT></P><P class=MsoNormal style="MARGIN: 0in 0in 0pt 0.5in\; TEXT-INDENT: -0.25in\; LINE-HEIGHT: 120%\; TEXT-ALIGN: justify\; mso-list: l0 level1 lfo1\; tab-stops: list .5in"><FONT face=Arial><FONT size=3><SPAN style="FONT-SIZE: 9.5pt\; LINE-HEIGHT: 120%\; FONT-FAMILY: 'Courier New'\; mso-fareast-font-family: 'Courier New'"><SPAN style="mso-list: Ignore">o<SPAN style="FONT: 7pt 'Times New Roman'">&nbsp\;&nbsp\;&nbsp\;&nbsp\;&nbsp\;&nbsp\;&nbsp\; </SPAN></SPAN></SPAN><SPAN style="FONT-SIZE: 9.5pt\; LINE-HEIGHT: 120%">Are active in their business' day-to-day activity and involved in the major decision making process.<SPAN style="mso-spacerun: yes">&nbsp\; </SPAN><o:p></o:p></SPAN></FONT></FONT></P><P class=MsoNormal style="MARGIN: 0in 0in 0pt 0.5in\; TEXT-INDENT: -0.25in\; LINE-HEIGHT: 120%\; TEXT-ALIGN: justify\; mso-list: l0 level1 lfo1\; tab-stops: list .5in"><FONT face=Arial><FONT size=3><SPAN style="FONT-SIZE: 9.5pt\; LINE-HEIGHT: 120%\; FONT-FAMILY: 'Courier New'\; mso-fareast-font-family: 'Courier New'"><SPAN style="mso-list: Ignore">o<SPAN style="FONT: 7pt 'Times New Roman'">&nbsp\;&nbsp\;&nbsp\;&nbsp\;&nbsp\;&nbsp\;&nbsp\; </SPAN></SPAN></SPAN><SPAN style="FONT-SIZE: 9.5pt\; LINE-HEIGHT: 120%">Demonstrate that their businesses are financially stable.<o:p></o:p></SPAN></FONT></FONT></P><P class=MsoNormal style="MARGIN: 0in 0in 0pt 0.5in\; TEXT-INDENT: -0.25in\; LINE-HEIGHT: 120%\; TEXT-ALIGN: justify\; mso-list: l0 level1 lfo1\; tab-stops: list .5in"><FONT face=Arial><FONT size=3><SPAN style="FONT-SIZE: 9.5pt\; LINE-HEIGHT: 120%\; FONT-FAMILY: 'Courier New'\; mso-fareast-font-family: 'Courier New'"><SPAN style="mso-list: Ignore">o<SPAN style="FONT: 7pt 'Times New Roman'">&nbsp\;&nbsp\;&nbsp\;&nbsp\;&nbsp\;&nbsp\;&nbsp\; </SPAN></SPAN></SPAN><SPAN style="FONT-SIZE: 9.5pt\; LINE-HEIGHT: 120%">Reside within Atascosa\, Bandera\, Bexar\, Comal\, Guadalupe\, </SPAN><?xml:namespace prefix = st1 ns = "urn:schemas-microsoft-com:office:smarttags" /><st1:place><SPAN style="FONT-SIZE: 9.5pt\; LINE-HEIGHT: 120%">Kendall</SPAN></st1:place><SPAN style="FONT-SIZE: 9.5pt\; LINE-HEIGHT: 120%">\, </SPAN><st1:City><st1:place><SPAN style="FONT-SIZE: 9.5pt\; LINE-HEIGHT: 120%">Medina</SPAN></st1:place></st1:City><SPAN style="FONT-SIZE: 9.5pt\; LINE-HEIGHT: 120%"> or </SPAN><st1:place><st1:PlaceName><SPAN style="FONT-SIZE: 9.5pt\; LINE-HEIGHT: 120%">Wilson</SPAN></st1:PlaceName><SPAN style="FONT-SIZE: 9.5pt\; LINE-HEIGHT: 120%"> </SPAN><st1:PlaceName><SPAN style="FONT-SIZE: 9.5pt\; LINE-HEIGHT: 120%">County</SPAN></st1:PlaceName></st1:place><SPAN style="FONT-SIZE: 9.5pt\; LINE-HEIGHT: 120%">.<o:p></o:p></SPAN></FONT></FONT></P><P class=MsoNormal style="MARGIN: 0in 0in 0pt 0.5in\; TEXT-INDENT: -0.25in\; LINE-HEIGHT: 120%\; TEXT-ALIGN: justify\; mso-list: l0 level1 lfo1\; tab-stops: list .5in"><FONT face=Arial><FONT size=3><SPAN style="FONT-SIZE: 9.5pt\; LINE-HEIGHT: 120%\; FONT-FAMILY: 'Courier New'\; mso-fareast-font-family: 'Courier New'"><SPAN style="mso-list: Ignore">o<SPAN style="FONT: 7pt 'Times New Roman'">&nbsp\;&nbsp\;&nbsp\;&nbsp\;&nbsp\;&nbsp\;&nbsp\; </SPAN></SPAN></SPAN><SPAN style="FONT-SIZE: 9.5pt\; LINE-HEIGHT: 120%">Are employed within </SPAN><st1:place><st1:PlaceName><SPAN style="FONT-SIZE: 9.5pt\; LINE-HEIGHT: 120%">Bexar</SPAN></st1:PlaceName><SPAN style="FONT-SIZE: 9.5pt\; LINE-HEIGHT: 120%"> </SPAN><st1:PlaceType><SPAN style="FONT-SIZE: 9.5pt\; LINE-HEIGHT: 120%">County</SPAN></st1:PlaceType></st1:place><SPAN style="FONT-SIZE: 9.5pt\; LINE-HEIGHT: 120%">.<o:p></o:p></SPAN></FONT></FONT></P><P class=MsoNormal style="MARGIN: 0in 0in 0pt 0.5in\; TEXT-INDENT: -0.25in\; LINE-HEIGHT: 120%\; TEXT-ALIGN: justify\; mso-list: l0 level1 lfo1\; tab-stops: list .5in"><FONT face=Arial><FONT size=3><SPAN style="FONT-SIZE: 9.5pt\; LINE-HEIGHT: 120%\; FONT-FAMILY: 'Courier New'\; mso-fareast-font-family: 'Courier New'"><SPAN style="mso-list: Ignore">o<SPAN style="FONT: 7pt 'Times New Roman'">&nbsp\;&nbsp\;&nbsp\;&nbsp\;&nbsp\;&nbsp\;&nbsp\; </SPAN></SPAN></SPAN><SPAN style="FONT-SIZE: 9.5pt\; LINE-HEIGHT: 120%">Employ 99 or less full-time employees. <o:p></o:p></SPAN></FONT></FONT></P><P class=MsoNormal style="MARGIN: 0in 0in 0pt 0.5in\; TEXT-INDENT: -0.25in\; LINE-HEIGHT: 120%\; TEXT-ALIGN: justify\; mso-list: l0 level1 lfo1\; tab-stops: list .5in"><FONT face=Arial><FONT size=3><SPAN style="FONT-SIZE: 9.5pt\; LINE-HEIGHT: 120%\; FONT-FAMILY: 'Courier New'\; mso-fareast-font-family: 'Courier New'"><SPAN style="mso-list: Ignore">o<SPAN style="FONT: 7pt 'Times New Roman'">&nbsp\;&nbsp\;&nbsp\;&nbsp\;&nbsp\;&nbsp\;&nbsp\; </SPAN></SPAN></SPAN><SPAN style="FONT-SIZE: 9.5pt\; LINE-HEIGHT: 120%">Are not current members of the North Chamber Board of Directors. <o:p></o:p></SPAN></FONT></FONT></P><P class=MsoNormal style="MARGIN: 0in 0in 0pt 0.5in\; TEXT-INDENT: -0.25in\; LINE-HEIGHT: 120%\; TEXT-ALIGN: justify\; mso-list: l0 level1 lfo1\; tab-stops: list .5in"><FONT face=Arial><FONT size=3><SPAN style="FONT-SIZE: 9.5pt\; LINE-HEIGHT: 120%\; FONT-FAMILY: 'Courier New'\; mso-fareast-font-family: 'Courier New'"><SPAN style="mso-list: Ignore">o<SPAN style="FONT: 7pt 'Times New Roman'">&nbsp\;&nbsp\;&nbsp\;&nbsp\;&nbsp\;&nbsp\;&nbsp\; </SPAN></SPAN></SPAN><SPAN style="FONT-SIZE: 9.5pt\; LINE-HEIGHT: 120%">Submit completed forms to North Chamber by deadline date/time of<B style="mso-bidi-font-weight: normal"><I style="mso-bidi-font-style: normal"> </I></B></SPAN><st1:date Month="4" Day="1" Year="2010"><B style="mso-bidi-font-weight: normal"><SPAN style="FONT-SIZE: 9.5pt\; LINE-HEIGHT: 120%">Thursday\, </SPAN></B><st1:date Month="4" Day="1" Year="2010" ls="trans"><B style="mso-bidi-font-weight: normal"><SPAN style="FONT-SIZE: 9.5pt\; LINE-HEIGHT: 120%">April 1\, 2010</SPAN></B></st1:date></st1:date><B style="mso-bidi-font-weight: normal"><SPAN style="FONT-SIZE: 9.5pt\; LINE-HEIGHT: 120%">\, </SPAN></B><st1:time Hour="17" Minute="0"><B style="mso-bidi-font-weight: normal"><SPAN style="FONT-SIZE: 9.5pt\; LINE-HEIGHT: 120%">5:00 p.m.</SPAN></B></st1:time><B style="mso-bidi-font-weight: normal"><SPAN style="FONT-SIZE: 9.5pt\; LINE-HEIGHT: 120%"> <o:p></o:p></SPAN></B></FONT></FONT></P><P class=MsoNormal style="MARGIN: 0in 0in 0pt 0.5in\; TEXT-INDENT: -0.25in\; LINE-HEIGHT: 120%\; TEXT-ALIGN: justify\; mso-list: l0 level1 lfo1\; tab-stops: list .5in"><FONT face=Arial><FONT size=3><SPAN style="FONT-SIZE: 9.5pt\; LINE-HEIGHT: 120%\; FONT-FAMILY: 'Courier New'\; mso-fareast-font-family: 'Courier New'"><SPAN style="mso-list: Ignore">o<SPAN style="FONT: 7pt 'Times New Roman'">&nbsp\;&nbsp\;&nbsp\;&nbsp\;&nbsp\;&nbsp\;&nbsp\; </SPAN></SPAN></SPAN><SPAN style="FONT-SIZE: 9.5pt\; LINE-HEIGHT: 120%">Agree to attend the Small Business Leaders Awards on </SPAN><st1:date Month="7" Day="8" Year="2010"><SPAN style="FONT-SIZE: 9.5pt\; LINE-HEIGHT: 120%">Thursday\, </SPAN><st1:date Month="7" Day="8" Year="2010" ls="trans"><SPAN style="FONT-SIZE: 9.5pt\; LINE-HEIGHT: 120%">July 8\, 2010</SPAN></st1:date></st1:date><SPAN style="FONT-SIZE: 9.5pt\; LINE-HEIGHT: 120%">\, at the Hilton San Antonio-Airport. <o:p></o:p></SPAN></FONT></FONT></P><P class=MsoNormal style="MARGIN: 0in 0in 0pt 0.5in\; TEXT-INDENT: -0.25in\; LINE-HEIGHT: 120%\; TEXT-ALIGN: justify\; mso-list: l0 level1 lfo1\; tab-stops: list .5in"><FONT face=Arial><FONT size=3><SPAN style="FONT-SIZE: 9.5pt\; LINE-HEIGHT: 120%\; FONT-FAMILY: 'Courier New'\; mso-fareast-font-family: 'Courier New'"><SPAN style="mso-list: Ignore">o<SPAN style="FONT: 7pt 'Times New Roman'">&nbsp\;&nbsp\;&nbsp\;&nbsp\;&nbsp\;&nbsp\;&nbsp\; </SPAN></SPAN></SPAN><SPAN style="FONT-SIZE: 9.5pt\; LINE-HEIGHT: 120%">Agree to provide the North Chamber photos and biographies for video production. <o:p></o:p></SPAN></FONT></FONT></P><P class=MsoNormal style="MARGIN: 0in 0in 0pt 0.5in\; TEXT-INDENT: -0.25in\; LINE-HEIGHT: 120%\; TEXT-ALIGN: justify\; mso-list: l0 level1 lfo1\; tab-stops: list .5in"><FONT face=Arial><FONT size=3><SPAN style="FONT-SIZE: 9.5pt\; LINE-HEIGHT: 120%\; FONT-FAMILY: 'Courier New'\; mso-fareast-font-family: 'Courier New'"><SPAN style="mso-list: Ignore">o<SPAN style="FONT: 7pt 'Times New Roman'">&nbsp\;&nbsp\;&nbsp\;&nbsp\;&nbsp\;&nbsp\;&nbsp\; </SPAN></SPAN></SPAN><SPAN style="FONT-SIZE: 9.5pt\; LINE-HEIGHT: 120%">Have not received the following awards: Career Achievement\, Overall Small Business Leader of the Year\, <o:p></o:p></SPAN></FONT></FONT></P><P class=MsoNormal style="MARGIN: 0in 0in 0pt 0.25in\; TEXT-INDENT: 0.25in\; LINE-HEIGHT: 120%\; TEXT-ALIGN: justify"><SPAN style="FONT-SIZE: 9.5pt\; LINE-HEIGHT: 120%"><FONT size=2>Small Business Leader of the Year.<o:p></o:p></FONT></SPAN></P><P class=MsoNormal style="MARGIN: 0in 0in 0pt\; LINE-HEIGHT: 150%"><B style="mso-bidi-font-weight: normal"><SPAN style="FONT-SIZE: 5pt\; COLOR: navy\; LINE-HEIGHT: 150%"><o:p><FONT size=3>&nbsp\;</FONT></o:p></SPAN></B></P><P class=MsoNormal style="MARGIN: 0in 0in 0pt"><FONT size=3><B style="mso-bidi-font-weight: normal"><SPAN style="FONT-SIZE: 14pt\; COLOR: #81562b">NOMINEE:</SPAN></B><SPAN style="COLOR: #81562b"> FINALISTS WILL BE NOTIFIED BY </SPAN><st1:date Month="4" Day="26" Year="2010"><SPAN style="COLOR: #81562b">MONDAY\, April 26\, 2010</SPAN></st1:date><SPAN style="COLOR: #81562b"> (</SPAN><st1:time Hour="17" Minute="0"><SPAN style="COLOR: #81562b">5:00 p.m.</SPAN></st1:time><SPAN style="COLOR: #81562b">)</SPAN></FONT></P><P class=MsoNormal style="MARGIN: 0in 0in 0pt"><SPAN style="COLOR: #81562b"></SPAN>&nbsp\;</P><P class=MsoNormal style="MARGIN: 0in 0in 0pt"><SPAN style="COLOR: #81562b"><A dataFld=0:0 href="http://www.northsachamber.com/media/pdf/sbla_nom_form.pdf">To download form\, click here<I style="mso-bidi-font-style: normal"><o:p></o:p></I></A></SPAN></P></DIV>
LOCATION:North Chamber
UID:e.2020.755
SEQUENCE:3
DTSTAMP:20260424T115146Z
URL:https://cm-dev.metrosa.com/events/details/2010-small-business-leaders-awards-call-for-nominations-03-22-2010-755
END:VEVENT

END:VCALENDAR
