BEGIN:VCALENDAR
VERSION:2.0
PRODID:-//ChamberMaster//Event Calendar 2.0//EN
METHOD:PUBLISH
X-PUBLISHED-TTL:P3D
REFRESH-INTERVAL:P3D
CALSCALE:GREGORIAN
BEGIN:VEVENT
DTSTART:20110421T163000Z
DTEND:20110421T180000Z
X-MICROSOFT-CDO-ALLDAYEVENT:FALSE
SUMMARY:2011 April Ambassadors Lunch Meeting
DESCRIPTION:MENU:       Tomato Bruschetta\, Lemon Rosemary Chicken\, Angel Hair Pasta\, Vegetable Medley\, Grilled Chicken Bowtie Festival\, House Caesar salad\, Choice of Salad Dressing\, Bread & Dipping Sauce\, Iced Tea\, Water and Soft Drinks.
X-ALT-DESC;FMTTYPE=text/html:<P><STRONG>MENU:&nbsp\;&nbsp\;&nbsp\;&nbsp\;&nbsp\;&nbsp\; </STRONG><STRONG>Tomato Bruschetta\, Lemon Rosemary Chicken\, Angel Hair Pasta\, Vegetable Medley\, Grilled Chicken Bowtie Festival\, House Caesar salad\, Choice of Salad Dressing\, Bread &amp\; Dipping Sauce\, Iced Tea\, Water and Soft Drinks.</STRONG></P>
LOCATION:Hyatt Place
UID:e.2020.881
SEQUENCE:3
DTSTAMP:20260422T104851Z
URL:https://cm-dev.metrosa.com/events/details/2011-april-ambassadors-lunch-meeting-04-21-2011-881
END:VEVENT

END:VCALENDAR
