BEGIN:VCALENDAR
VERSION:2.0
PRODID:-//ChamberMaster//Event Calendar 2.0//EN
METHOD:PUBLISH
X-PUBLISHED-TTL:P3D
REFRESH-INTERVAL:P3D
CALSCALE:GREGORIAN
BEGIN:VEVENT
DTSTART:20110428T121500Z
DTEND:20110428T140000Z
X-MICROSOFT-CDO-ALLDAYEVENT:FALSE
SUMMARY:2011 April CIO Breakfast
DESCRIPTION:April CIO BreakfastLocation:  Petroleum ClubTopic:  Mobile DevicesPresenter:  John VannNew consumer devices such as Smartphones and tablets are more than consumer gadgets.  They are truly disruptive and need to be examined in corporations.  While they present a variety of opportunities for businesses\, they are used in many cases by individuals to supplement notebooks.   These devices create new challenges for IT in policies\, security and technology.   We will discuss how Valero IT has reacted to these devices and will ask those in the audience to participate in the discussion about their corporate experience.
X-ALT-DESC;FMTTYPE=text/html:<P>April CIO Breakfast</P><P>Location:&nbsp\; Petroleum Club</P><P>Topic:&nbsp\; Mobile Devices</P><P>Presenter:&nbsp\; John Vann</P><P class=MsoNormal style="MARGIN: 0in 0in 0pt"><SPAN style="COLOR: #1f497d"><FONT face=Calibri>New consumer devices such as Smartphones and tablets are more than consumer gadgets.&nbsp\; They are truly disruptive and need to be examined in corporations.&nbsp\; While they present a variety of opportunities for businesses\, they are used in many cases by individuals to supplement notebooks.&nbsp\;&nbsp\; These devices create new challenges for IT in policies\, security and technology.&nbsp\;&nbsp\; We will discuss how Valero IT has reacted to these devices and will ask those in the audience to participate in the discussion about their corporate experience. <?xml:namespace prefix = o ns = "urn:schemas-microsoft-com:office:office" /><o:p></o:p></FONT></SPAN></P>
LOCATION:Petroleum Club of San Antonio
UID:e.2020.849
SEQUENCE:3
DTSTAMP:20260422T104140Z
URL:https://cm-dev.metrosa.com/events/details/2011-april-cio-breakfast-04-28-2011-849
END:VEVENT

END:VCALENDAR
