BEGIN:VCALENDAR
VERSION:2.0
PRODID:-//ChamberMaster//Event Calendar 2.0//EN
METHOD:PUBLISH
X-PUBLISHED-TTL:P3D
REFRESH-INTERVAL:P3D
CALSCALE:GREGORIAN
BEGIN:VEVENT
DTSTART:20110426T050000Z
DTEND:20110426T050000Z
X-MICROSOFT-CDO-ALLDAYEVENT:FALSE
SUMMARY:2011 April LLA Association Wine Tasting Event
DESCRIPTION:2011 April LLA Association Wine Tasting Event
X-ALT-DESC;FMTTYPE=text/html:2011 April LLA Association Wine Tasting Event
LOCATION:The Palmer Club House
UID:e.2020.2492
SEQUENCE:3
DTSTAMP:20260422T104851Z
URL:https://cm-dev.metrosa.com/events/details/2011-april-lla-association-wine-tasting-event-04-26-2011-2492
END:VEVENT

END:VCALENDAR
