BEGIN:VCALENDAR
VERSION:2.0
PRODID:-//ChamberMaster//Event Calendar 2.0//EN
METHOD:PUBLISH
X-PUBLISHED-TTL:P3D
REFRESH-INTERVAL:P3D
CALSCALE:GREGORIAN
BEGIN:VEVENT
DTSTART:20110818T163000Z
DTEND:20110818T180000Z
X-MICROSOFT-CDO-ALLDAYEVENT:FALSE
SUMMARY:2011 August*Ambassador Lunch Meeting
DESCRIPTION:DATE/TIME: Thursday\, August 18\, 2011 / 11:30 AM to 1:00 PMLOCATION: Holiday Inn North Hill Country 19280 Redland Rd San Antonio TX 78259off US 281 NMENU: Holiday Inn North Hill Country Grand Slam Lunch BuffetMenu: Hamburger & Grilled Chicken Breast Sliders\, Lettuce\, Tomatoes\, Onions\, Cheese Slices\, Pickles. Fresh Vegetable Medley\, Potato Chips & Dips Served with Iced Tea. Dessert: Mini-Brownie\, Make your own Sundae Bar PRICE: $13.00 all inclusiveRSVP'S: DEADLINE IS Monday - August 15\, 2011- NOON WITH PAYMENT FOR YOUR TEAM'S EXTRA 300 POINTS. Registration goes off website midnight Tuesday August 16\, 2011. REGISTER ON LINE WITH CREDIT CARD AT www.northsachamber.com
X-ALT-DESC;FMTTYPE=text/html:<DIV><SPAN lang=EN><P><STRONG>DATE/TIME: <FONT face=Verdana>Thursday\, August 18\, 2011 / 11:30 AM to 1:00 PM</P></FONT></STRONG><U><P></P><DIR><DIR><DIR><DIR><DIR><DIR><P>LOCATION:</U> </P></DIR></DIR></DIR></DIR></DIR></DIR></SPAN><P align=center><CENTER><TABLE dir=ltr border=0 cellSpacing=0 cellPadding=1 width=439><TBODY><TR><TD><FONT face=Verdana><SPAN lang=EN><P>Holiday Inn North Hill Country </FONT></SPAN></P></TD></TR><TR><TD><FONT face=Verdana><SPAN lang=EN><P>19280 Redland Rd </FONT></SPAN></P></TD></TR><TR><TD><FONT face=Verdana><SPAN lang=EN><P>San Antonio TX 78259</FONT></SPAN></P></TD></TR><TR><TD><FONT face=Verdana><SPAN lang=EN><P>off US 281 N</FONT></SPAN></P></TD></TR></TBODY></TABLE></CENTER><P></P><DIR><DIR><DIR><DIR><DIR><DIR><B><SPAN lang=EN><P></P></DIR></DIR></DIR></DIR></DIR></DIR><U><P>MENU:</U> </P><FONT face=Arial><P>Holiday Inn North Hill Country Grand Slam Lunch Buffet</P></B><B><P>Menu: </B>Hamburger &amp\; Grilled Chicken Breast Sliders\, Lettuce\, Tomatoes\, Onions\, Cheese Slices\, Pickles. Fresh Vegetable Medley\, Potato Chips &amp\; Dips Served with Iced Tea. </P><P><B>Dessert:</B> Mini-Brownie\, Make your own Sundae Bar </P></FONT><B><U><P>PRICE:</U> <FONT color=#ff0000>$13.00 all inclusive</P></FONT><DIR><DIR><DIR><DIR><DIR><DIR><U><P>RSVP'S:</U> <U><FONT color=#0000ff>DEADLINE IS Monday - August 15\, 2011- NOON WITH PAYMENT FOR YOUR TEAM'S EXTRA 300 POINTS.</FONT><FONT color=#993300> </P></FONT><FONT color=#c00000><P>Registration goes off website midnight Tuesday August 16\, 2011. </P></FONT></DIR></DIR></DIR></DIR></DIR></DIR></U><FONT color=#c00000><P>REGISTER ON LINE WITH CREDIT CARD AT</FONT><FONT color=#ff0000> </B></FONT></SPAN><A href="http://www.northsachamber.com/"><B><U><FONT color=#0000ff><SPAN lang=EN>www.northsachamber.com</B></U></FONT></SPAN></A></P><B><FONT color=#ff0000 size=4><FONT color=#ff0000 size=4><SPAN lang=EN></B></FONT></FONT><FONT size=2 face=Arial><FONT size=2 face=Arial><P></P><P></P></FONT></FONT></SPAN></DIV>
LOCATION:Holiday Inn North Hill Country
UID:e.2020.889
SEQUENCE:3
DTSTAMP:20260422T054310Z
URL:https://cm-dev.metrosa.com/events/details/2011-august-ambassador-lunch-meeting-08-18-2011-889
END:VEVENT

END:VCALENDAR
