BEGIN:VCALENDAR
VERSION:2.0
PRODID:-//ChamberMaster//Event Calendar 2.0//EN
METHOD:PUBLISH
X-PUBLISHED-TTL:P3D
REFRESH-INTERVAL:P3D
CALSCALE:GREGORIAN
BEGIN:VEVENT
DTSTART:20110825T121500Z
DTEND:20110825T140000Z
X-MICROSOFT-CDO-ALLDAYEVENT:FALSE
SUMMARY:2011 August CIO Breakfast
DESCRIPTION:7:45 an Alamo College representative will give a 15 minute presentation about  how  the Alamo Colleges and the Texas Workforce Commission partnership can help your company be more competitive by building key skills in your IT workforce.   Discussion is on the scope and history of the Skills Development Fund\, highlights Alamo Colleges’ successes in implementing the fund to train technicians and analysts in advanced technology skills\, and outline how we can build a consortium that will allow North Chamber to take advantage of this unique opportunity 8:00 Topic:  LEAN IT - Better\, Leaner\, Faster and Cheaper.Presenter:  Michiel Espach\, Tesoro As a follow up to our July visit to the Toyota plant where the concepts of Kaizen\, or continuous improvement\, and Lean Manufacturing can be seen in person\, Michiel Espach will use his background as Industrial Engineer to facilitate a discussion focusing on defining Lean IT\, how to apply the principles of Lean IT to remove waste from your IT value chain\, and how to improve IT business contribution while reducing cost at the same time.  The session will briefly touch on the concepts of Lean IT but will mostly focus on the practical applications of the concepts in your IT organization with examples.
X-ALT-DESC;FMTTYPE=text/html:<P class=MsoNormal style="MARGIN: 0in 0in 0pt"><FONT face=Calibri><B style="mso-bidi-font-weight: normal"><SPAN style="FONT-SIZE: 12pt">7:45</SPAN></B> an Alamo College representative will give a 15 minute presentation about<SPAN style="mso-spacerun: yes">&nbsp\; </SPAN>how<SPAN style="mso-spacerun: yes">&nbsp\; </SPAN>the Alamo Colleges and the Texas Workforce Commission partnership can help your company be more competitive by building key skills in your IT workforce.<SPAN style="mso-spacerun: yes">&nbsp\;&nbsp\; </SPAN>Discussion is on the scope and history of the Skills Development Fund\, highlights Alamo Colleges’ successes in implementing the fund to train technicians and analysts in advanced technology skills\, and outline how we can build a consortium that will allow North Chamber to take advantage of this unique opportunity<?xml:namespace prefix = o ns = "urn:schemas-microsoft-com:office:office" /><o:p></o:p></FONT></P><P class=Default style="MARGIN: 0in 0in 0pt\; LINE-HEIGHT: 115%"><o:p><FONT face=Arial>&nbsp\;</FONT></o:p></P><P class=Default style="MARGIN: 0in 0in 0pt\; LINE-HEIGHT: 115%"><FONT face=Arial>8:00 Topic:<SPAN style="mso-spacerun: yes">&nbsp\; </SPAN></FONT><B><SPAN style="FONT-SIZE: 11pt\; LINE-HEIGHT: 115%\; FONT-FAMILY: 'Calibri'\,'sans-serif'">LEAN IT - Better\, Leaner\, Faster and Cheaper.<o:p></o:p></SPAN></B></P><P class=MsoNormal style="MARGIN: 0in 0in 0pt"><FONT face=Calibri>Presenter:<SPAN style="mso-spacerun: yes">&nbsp\; </SPAN>Michiel Espach\, Tesoro<o:p></o:p></FONT></P><P class=MsoNormal style="MARGIN: 0in 0in 0pt"><SPAN style="COLOR: #1f497d"><o:p><FONT face=Calibri>&nbsp\;</FONT></o:p></SPAN></P><P class=MsoNormal style="MARGIN: 0in 0in 0pt\; TEXT-ALIGN: justify"><FONT face=Calibri>As a follow up to our July visit to the Toyota plant where the concepts of Kaizen\, or continuous improvement\, and Lean Manufacturing can be seen in person\, Michiel Espach will use his background as Industrial Engineer to facilitate a discussion focusing on defining Lean IT\, how to apply the principles of Lean IT to remove waste from your IT value chain\, and how to improve IT business contribution while reducing cost at the same time.&nbsp\; The session will briefly touch on the concepts of Lean IT but will mostly focus on the practical applications of the concepts in your IT organization with examples.&nbsp\; <SPAN style="FONT-SIZE: 12pt\; FONT-FAMILY: 'Times New Roman'\,'serif'"><o:p></o:p></SPAN></FONT></P><P>&nbsp\;</P>
LOCATION:Petroleum Club of San Antonio
UID:e.2020.853
SEQUENCE:3
DTSTAMP:20260422T053817Z
URL:https://cm-dev.metrosa.com/events/details/2011-august-cio-breakfast-08-25-2011-853
END:VEVENT

END:VCALENDAR
