BEGIN:VCALENDAR
VERSION:2.0
PRODID:-//ChamberMaster//Event Calendar 2.0//EN
METHOD:PUBLISH
X-PUBLISHED-TTL:P3D
REFRESH-INTERVAL:P3D
CALSCALE:GREGORIAN
BEGIN:VEVENT
DTSTART:20110811T180000Z
DTEND:20110811T190000Z
X-MICROSOFT-CDO-ALLDAYEVENT:FALSE
SUMMARY:2011 August Grand Opening ~ Big D's Fitness Equipment
DESCRIPTION:Big D Fitness Equipment -Location: 16120 College Oak Suite 109\, SAT 78249Thursday Aug 11\, 2011Grand Opening Ceremony 01:00 - 2:00 p.m. Ribbon Cutting @ 01:00 p.m. CONTACT: Dee Anderson (210) 382-8316CHAMBER CONTACT: Wendy Thomas @ 384-7724Directions: 1604 exit LOCKHILL-SELMA RD. Turn RIGHT onto UNIVERSITY OAK. Take the 1st RIGHT onto COLLEGE OAK DR. If you reach SHAVANO OAK you've gone about 0.1 miles too farUNIVERSITY OAK is just past N LOOP 1604 W 16120 COLLEGE OAK is on the LEFT
X-ALT-DESC;FMTTYPE=text/html:<DIV><B><FONT size=4><P>Big D Fitness Equipment -</P></B></FONT><FONT size=4 face="Times New Roman"><FONT size=4 face="Times New Roman"><P>Location: 16120 College Oak Suite 109\, SAT 78249</P><P>Thursday Aug 11\, 2011</P><P>Grand Opening Ceremony 01:00 - 2:00 p.m. </P><P>Ribbon Cutting @ 01:00 p.m. </P><P>CONTACT: Dee Anderson (210) 382-8316</P><P>CHAMBER CONTACT: Wendy Thomas @ 384-7724</P><DIR><P>Directions: </FONT></FONT><FONT face="Times New Roman">1604 exit LOCKHILL-SELMA RD. </P><P>Turn RIGHT onto UNIVERSITY OAK. Take the 1st RIGHT onto COLLEGE OAK DR. </P></DIR><UL><UL></FONT><I><FONT color=#666666 face="Times New Roman"><FONT color=#666666 face="Times New Roman"><LI>If you reach SHAVANO OAK you've gone about 0.1 miles too far</LI><LI>UNIVERSITY OAK is just past N LOOP 1604 W </LI></I></FONT></FONT><FONT face="Times New Roman"><LI>16120 COLLEGE OAK is on the LEFT</LI></UL></UL></FONT></DIV>
LOCATION:Big D's Fitness Equipment
UID:e.2020.905
SEQUENCE:3
DTSTAMP:20260422T054814Z
URL:https://cm-dev.metrosa.com/events/details/2011-august-grand-opening-big-d-s-fitness-equipment-08-11-2011-905
END:VEVENT

END:VCALENDAR
