BEGIN:VCALENDAR
VERSION:2.0
PRODID:-//ChamberMaster//Event Calendar 2.0//EN
METHOD:PUBLISH
X-PUBLISHED-TTL:P3D
REFRESH-INTERVAL:P3D
CALSCALE:GREGORIAN
BEGIN:VEVENT
DTSTART:20111203T010000Z
DTEND:20111203T050000Z
X-MICROSOFT-CDO-ALLDAYEVENT:FALSE
SUMMARY:2011 DEC * LLA Association Holiday Party
DESCRIPTION:
X-ALT-DESC;FMTTYPE=text/html:
LOCATION:Westin La Cantera Resort -Academy
UID:e.2020.953
SEQUENCE:3
DTSTAMP:20260422T000722Z
URL:https://cm-dev.metrosa.com/events/details/2011-dec-lla-association-holiday-party-12-02-2011-953
END:VEVENT

END:VCALENDAR
