BEGIN:VCALENDAR
VERSION:2.0
PRODID:-//ChamberMaster//Event Calendar 2.0//EN
METHOD:PUBLISH
X-PUBLISHED-TTL:P3D
REFRESH-INTERVAL:P3D
CALSCALE:GREGORIAN
BEGIN:VEVENT
DTSTART:20111209T131500Z
DTEND:20111209T150000Z
X-MICROSOFT-CDO-ALLDAYEVENT:FALSE
SUMMARY:2011 December*Chairmans Council Breakfast
DESCRIPTION:
X-ALT-DESC;FMTTYPE=text/html:<DIV>&nbsp\;</DIV>
LOCATION:The Petroleum Club
UID:e.2020.923
SEQUENCE:3
DTSTAMP:20260422T000628Z
URL:https://cm-dev.metrosa.com/events/details/2011-december-chairmans-council-breakfast-12-09-2011-923
END:VEVENT

END:VCALENDAR
