BEGIN:VCALENDAR
VERSION:2.0
PRODID:-//ChamberMaster//Event Calendar 2.0//EN
METHOD:PUBLISH
X-PUBLISHED-TTL:P3D
REFRESH-INTERVAL:P3D
CALSCALE:GREGORIAN
BEGIN:VEVENT
DTSTART:20110217T173000Z
DTEND:20110217T190000Z
X-MICROSOFT-CDO-ALLDAYEVENT:FALSE
SUMMARY:2011 February Ambassador Lunch Meeting
DESCRIPTION:MENU:                       ROMAN HOLIDAY: Chicken Parmesan\, Roasted Vegetables\, Herb Penne Pasta\, Garden Salad and Dressign\, Garlic Bread\, Iced Tea                                                                       Dessert: Assorted Cookies                                     PRICE:                      $14.00 all inclusive
X-ALT-DESC;FMTTYPE=text/html:<P style="TEXT-INDENT: -1.5in\; MARGIN: 0in 0in 0pt 1.5in" class=MsoNormal align=left><B style="mso-bidi-font-weight: normal"><U><SPAN style="FONT-SIZE: 12pt">MENU:</SPAN></U></B><B style="mso-bidi-font-weight: normal"><SPAN style="FONT-SIZE: 12pt"><SPAN style="mso-tab-count: 1">&nbsp\;&nbsp\;&nbsp\;&nbsp\;&nbsp\;&nbsp\;&nbsp\;&nbsp\;&nbsp\;&nbsp\;&nbsp\;&nbsp\;&nbsp\;&nbsp\;&nbsp\;&nbsp\;&nbsp\;&nbsp\;&nbsp\;&nbsp\;&nbsp\;&nbsp\; </SPAN>ROMAN HOLIDAY: Chicken Parmesan\, Roasted Vegetables\, Herb Penne Pasta\, Garden Salad and Dressign\, Garlic Bread\, Iced Tea<?xml:namespace prefix = o ns = "urn:schemas-microsoft-com:office:office" /><o:p></o:p></SPAN></B></P><P style="TEXT-INDENT: -1.5in\; MARGIN: 0in 0in 0pt 1.5in" class=MsoNormal align=left><SPAN style="FONT-SIZE: 12pt"><SPAN style="mso-spacerun: yes">&nbsp\;&nbsp\;&nbsp\;&nbsp\;&nbsp\;&nbsp\;&nbsp\;&nbsp\;&nbsp\;&nbsp\;&nbsp\;&nbsp\;&nbsp\;&nbsp\;&nbsp\;&nbsp\;&nbsp\;&nbsp\;&nbsp\;&nbsp\;&nbsp\;&nbsp\;&nbsp\;&nbsp\;&nbsp\;&nbsp\;&nbsp\;&nbsp\;&nbsp\;&nbsp\;&nbsp\;&nbsp\; </SPAN><SPAN style="mso-spacerun: yes">&nbsp\;&nbsp\;</SPAN><o:p></o:p></SPAN></P><P style="MARGIN: 0in 0in 0pt\; mso-layout-grid-align: none" class=MsoNormal align=left><SPAN style="FONT-SIZE: 12pt"><SPAN style="mso-spacerun: yes">&nbsp\;&nbsp\;&nbsp\;&nbsp\;&nbsp\;&nbsp\;&nbsp\;&nbsp\;&nbsp\;&nbsp\;&nbsp\;&nbsp\;&nbsp\;&nbsp\;&nbsp\;&nbsp\;&nbsp\;&nbsp\;&nbsp\;&nbsp\;&nbsp\;&nbsp\;&nbsp\;&nbsp\;&nbsp\;&nbsp\;&nbsp\;&nbsp\;&nbsp\;&nbsp\;&nbsp\;&nbsp\;&nbsp\;&nbsp\;&nbsp\;&nbsp\;</SPAN><B>Dessert:</B> Assorted Cookies<B style="mso-bidi-font-weight: normal"><o:p></o:p></B></SPAN></P><P style="MARGIN: 0in 0in 0pt" class=MsoNormal align=left><SPAN style="FONT-SIZE: 12pt"><SPAN style="mso-tab-count: 3">&nbsp\;&nbsp\;&nbsp\;&nbsp\;&nbsp\;&nbsp\;&nbsp\;&nbsp\;&nbsp\;&nbsp\;&nbsp\;&nbsp\;&nbsp\;&nbsp\;&nbsp\;&nbsp\;&nbsp\;&nbsp\;&nbsp\;&nbsp\;&nbsp\;&nbsp\;&nbsp\;&nbsp\;&nbsp\;&nbsp\;&nbsp\;&nbsp\;&nbsp\;&nbsp\;&nbsp\;&nbsp\;&nbsp\;&nbsp\;&nbsp\; </SPAN>&nbsp\;<o:p></o:p></SPAN></P><P style="TEXT-INDENT: -1.5in\; MARGIN: 0in 0in 0pt 1.5in" class=MsoNormal align=left><B style="mso-bidi-font-weight: normal"><U><SPAN style="FONT-SIZE: 12pt">PRICE:</SPAN></U></B><B style="mso-bidi-font-weight: normal"><SPAN style="FONT-SIZE: 12pt"><SPAN style="mso-tab-count: 1">&nbsp\;&nbsp\;&nbsp\;&nbsp\;&nbsp\;&nbsp\;&nbsp\;&nbsp\;&nbsp\;&nbsp\;&nbsp\;&nbsp\;&nbsp\;&nbsp\;&nbsp\;&nbsp\;&nbsp\;&nbsp\;&nbsp\;&nbsp\;&nbsp\; </SPAN><SPAN style="COLOR: red">$14.00 all inclusive</SPAN><o:p></o:p></SPAN></B></P><P>&nbsp\;</P>
LOCATION:Holiday Inn North Hill Country
UID:e.2020.872
SEQUENCE:3
DTSTAMP:20260422T131756Z
URL:https://cm-dev.metrosa.com/events/details/2011-february-ambassador-lunch-meeting-02-17-2011-872
END:VEVENT

END:VCALENDAR
