BEGIN:VCALENDAR
VERSION:2.0
PRODID:-//ChamberMaster//Event Calendar 2.0//EN
METHOD:PUBLISH
X-PUBLISHED-TTL:P3D
REFRESH-INTERVAL:P3D
CALSCALE:GREGORIAN
BEGIN:VEVENT
DTSTART:20110209T060000Z
DTEND:20110209T060000Z
X-MICROSOFT-CDO-ALLDAYEVENT:FALSE
SUMMARY:2011 February Leadership Lab Kick Off Breakfast
DESCRIPTION:2011 February Leadership Lab Kick Off Breakfast
X-ALT-DESC;FMTTYPE=text/html:2011 February Leadership Lab Kick Off Breakfast
LOCATION:Petroleum Club
UID:e.2020.2471
SEQUENCE:3
DTSTAMP:20260422T131657Z
URL:https://cm-dev.metrosa.com/events/details/2011-february-leadership-lab-kick-off-breakfast-02-09-2011-2471
END:VEVENT

END:VCALENDAR
