BEGIN:VCALENDAR
VERSION:2.0
PRODID:-//ChamberMaster//Event Calendar 2.0//EN
METHOD:PUBLISH
X-PUBLISHED-TTL:P3D
REFRESH-INTERVAL:P3D
CALSCALE:GREGORIAN
BEGIN:VEVENT
DTSTART:20110209T213000Z
DTEND:20110209T230000Z
X-MICROSOFT-CDO-ALLDAYEVENT:FALSE
SUMMARY:2011 February*RIBBON CUTTING @ Hearthstone Bakery Cafe
DESCRIPTION:HEARTHSTONE BAKERY CAFE4212 McCullough\, 78212Wednesday February 2\, 2011RIBBON CUTTING @ 3:30 p.m.CONTACT: Jason Vandeberg @ 826-5667CHAMBER CONTACT: Wendy Thomas @ 344-4848DIRECTIONS: map at North Chamber Website 'Calendar of Events'Food and Refreshments will be servedwww.hearthstonebakerycafe.com
X-ALT-DESC;FMTTYPE=text/html:<DIV>HEARTHSTONE BAKERY CAFE</DIV><DIV>4212 McCullough\, 78212</DIV><DIV>Wednesday February 2\, 2011</DIV><DIV>RIBBON CUTTING @ 3:30 p.m.</DIV><DIV>CONTACT: Jason Vandeberg @ 826-5667</DIV><DIV>CHAMBER CONTACT: Wendy Thomas @ 344-4848</DIV><DIV>DIRECTIONS: map at North Chamber Website 'Calendar of Events'</DIV><DIV>Food and Refreshments will be served</DIV><DIV><A href="http://www.hearthstonebakerycafe.com">www.hearthstonebakerycafe.com</A>&nbsp\; </DIV>
LOCATION:Hearthstone Bakery Cafe
UID:e.2020.867
SEQUENCE:3
DTSTAMP:20260422T131639Z
URL:https://cm-dev.metrosa.com/events/details/2011-february-ribbon-cutting-hearthstone-bakery-cafe-02-09-2011-867
END:VEVENT

END:VCALENDAR
