BEGIN:VCALENDAR
VERSION:2.0
PRODID:-//ChamberMaster//Event Calendar 2.0//EN
METHOD:PUBLISH
X-PUBLISHED-TTL:P3D
REFRESH-INTERVAL:P3D
CALSCALE:GREGORIAN
BEGIN:VEVENT
DTSTART:20110120T173000Z
DTEND:20110120T190000Z
X-MICROSOFT-CDO-ALLDAYEVENT:FALSE
SUMMARY:2011 January Ambassador Lunch Meeting
DESCRIPTION:MENU: Build Your Own Taco and Fajita Bar: Tortilla Chips & Salsa\, Mexican Rice & Refried Beans\, Guacamole\, Shredded Cheese & Sour Cream\, Garden Salad & Dressing and Iced Tea  Dessert: Assorted Cookies PRICE: $12.00 all inclusive
X-ALT-DESC;FMTTYPE=text/html:<P>MENU: Build Your Own Taco and Fajita Bar: </P><P>Tortilla Chips &amp\; Salsa\, Mexican Rice &amp\; Refried Beans\, Guacamole\, Shredded Cheese &amp\; Sour Cream\, Garden Salad &amp\; Dressing and Iced Tea&nbsp\; </P><P>Dessert: Assorted Cookies </P><P>PRICE: $12.00 all inclusive</P>
LOCATION:Holiday Inn North Hill Country
UID:e.2020.864
SEQUENCE:3
DTSTAMP:20260422T143652Z
URL:https://cm-dev.metrosa.com/events/details/2011-january-ambassador-lunch-meeting-01-20-2011-864
END:VEVENT

END:VCALENDAR
