BEGIN:VCALENDAR
VERSION:2.0
PRODID:-//ChamberMaster//Event Calendar 2.0//EN
METHOD:PUBLISH
X-PUBLISHED-TTL:P3D
REFRESH-INTERVAL:P3D
CALSCALE:GREGORIAN
BEGIN:VEVENT
DTSTART:20110129T060000Z
DTEND:20110129T060000Z
X-MICROSOFT-CDO-ALLDAYEVENT:FALSE
SUMMARY:2011 January Gala * PRIZE TICKETS
DESCRIPTION:2011 January Gala * PRIZE TICKETS
X-ALT-DESC;FMTTYPE=text/html:2011 January Gala * PRIZE TICKETS
LOCATION:J W Marriott Hotel & Spa
UID:e.2020.2387
SEQUENCE:3
DTSTAMP:20260422T143532Z
URL:https://cm-dev.metrosa.com/events/details/2011-january-gala-prize-tickets-01-29-2011-2387
END:VEVENT

END:VCALENDAR
