BEGIN:VCALENDAR
VERSION:2.0
PRODID:-//ChamberMaster//Event Calendar 2.0//EN
METHOD:PUBLISH
X-PUBLISHED-TTL:P3D
REFRESH-INTERVAL:P3D
CALSCALE:GREGORIAN
BEGIN:VEVENT
DTSTART:20110107T160000Z
DTEND:20110107T230000Z
X-MICROSOFT-CDO-ALLDAYEVENT:FALSE
SUMMARY:2011 January*RIBBON CUTTING @ Inches*A*Weigh
DESCRIPTION:INCHES*A*WEIGH16535 Huebner Road\, #116\, 78248Friday January 7\, 2011RIBBON CUTTING @ 10:00 a.m.EVENT: Open House - 10 a.m. to 5 p.m.CONTACT: Allie Perez @ 479-5400CHAMBER CONTACT: Wendy Thomas @ 384-7725DIRECTIONS: Map at North Chamber's Website in Calendar of EventsFood and Refreshments will be served. Unlike traditional gyms and weight loss centers\, we focus on three different areas proven to help women lose weight and keep it off. We believe that effective weight loss requires a positive and enhancing lifestyle change. We acknowledge the fact that no two women are built the same\, therefore no two weight loss regimens should be identical. We invite you to explore our systematic approach to weight loss and find out how you can apply it to your unique lifestyle. If you are ready to make a real change that will last a lifetime\, then we are ready for you!
X-ALT-DESC;FMTTYPE=text/html:<DIV style="FONT-FAMILY: Arial"><B><P><FONT size=4 face="Times New Roman">INCHES*A*WEIGH</FONT></P><P><FONT size=4 face="Times New Roman">16535 Huebner Road\, #116\, 78248</FONT></P><P><FONT size=4 face="Times New Roman">Friday January 7\, 2011</FONT></P><P><FONT size=4 face="Times New Roman">RIBBON CUTTING @ 10:00 a.m.</FONT></P></B><P><FONT size=4 face="Times New Roman">EVENT: Open House - 10 a.m. to 5 p.m.</FONT></P><P><FONT size=4 face="Times New Roman">CONTACT: Allie Perez @ 479-5400</FONT></P><P><FONT size=4 face="Times New Roman">CHAMBER CONTACT: Wendy Thomas @ 384-7725</FONT></P><P><FONT size=4 face="Times New Roman">DIRECTIONS: Map at North Chamber's Website in Calendar of Events</FONT></P><P><FONT size=4 face="Times New Roman">Food and Refreshments will be served. </FONT></P><B><I><P><FONT size=4 face="Times New Roman">Unlike traditional gyms and weight loss centers\, we focus on three different areas proven to help women lose weight and keep it off. We believe that effective weight loss requires a positive and enhancing lifestyle change. We acknowledge the fact that no two women are built the same\, therefore no two weight loss regimens should be identical. We invite you to explore our systematic approach to weight loss and find out how you can apply it to your unique lifestyle. If you are ready to make a real change that will last a lifetime\, then we are ready for you!</FONT></P></B></I></DIV>
LOCATION:Inches A Weigh
UID:e.2020.858
SEQUENCE:3
DTSTAMP:20260422T143629Z
URL:https://cm-dev.metrosa.com/events/details/2011-january-ribbon-cutting-inches-a-weigh-01-07-2011-858
END:VEVENT

END:VCALENDAR
