BEGIN:VCALENDAR
VERSION:2.0
PRODID:-//ChamberMaster//Event Calendar 2.0//EN
METHOD:PUBLISH
X-PUBLISHED-TTL:P3D
REFRESH-INTERVAL:P3D
CALSCALE:GREGORIAN
BEGIN:VEVENT
DTSTART:20110113T160000Z
DTEND:20110113T170000Z
X-MICROSOFT-CDO-ALLDAYEVENT:FALSE
SUMMARY:2011 January*RIBBON CUTTING @ RediClinic - Stone Ridge
DESCRIPTION:REDICLINIC - STONE RIDGE20935 US Hwy 281 N\, 78258Thursday January 13\, 2011www.RediClinic.com RIBBON CUTTING @ 10:00 a.m.CONTACT: Charlotte Jones\, Marketing Mgr @ 713-335-1751CHAMBER CONTACT: Wendy Thomas @ 384-7725DIRECTIONS: 281 North Exit Evans turn left on to Evans going West. In the HEB-Stone Ridge Shopping Center on the right.Food and Refreshments will be served. Imagine high-quality\, affordable healthcare for routine conditions and preventive care with no appointments necessary. Imagine specially-trained clinicians who are so professional and caring that 98 percent of patients rate their service as outstanding. Oh – and with facilities conveniently located inside the stores where you already shop. Sound like a fantasy? It’s not. It’s RediClinic.
X-ALT-DESC;FMTTYPE=text/html:<P>REDICLINIC - STONE RIDGE</P><P>20935 US Hwy 281 N\, 78258</P><P>Thursday January 13\, 2011</P><P><A href="http://www.RediClinic.com">www.RediClinic.com</A> </P><P>RIBBON CUTTING @ 10:00 a.m.</P><P>CONTACT: Charlotte Jones\, Marketing Mgr @ 713-335-1751</P><P>CHAMBER CONTACT: Wendy Thomas @ 384-7725</P><P>DIRECTIONS: 281 North Exit Evans turn left on to Evans going West. In the HEB-Stone Ridge Shopping Center on the right.</P><P>Food and Refreshments will be served. </P><P><EM>Imagine high-quality\, affordable healthcare for routine conditions and preventive care with no appointments necessary. Imagine specially-trained clinicians who are so professional and caring that 98 percent of patients rate their service as outstanding. Oh – and with facilities conveniently located inside the stores where you already shop. Sound like a fantasy? It’s not. It’s RediClinic.</EM></P>
LOCATION:RediClinic-Stone Ridge
UID:e.2020.859
SEQUENCE:3
DTSTAMP:20260422T143652Z
URL:https://cm-dev.metrosa.com/events/details/2011-january-ribbon-cutting-rediclinic-stone-ridge-01-13-2011-859
END:VEVENT

END:VCALENDAR
