BEGIN:VCALENDAR
VERSION:2.0
PRODID:-//ChamberMaster//Event Calendar 2.0//EN
METHOD:PUBLISH
X-PUBLISHED-TTL:P3D
REFRESH-INTERVAL:P3D
CALSCALE:GREGORIAN
BEGIN:VEVENT
DTSTART:20110721T160000Z
DTEND:20110721T180000Z
X-MICROSOFT-CDO-ALLDAYEVENT:FALSE
SUMMARY:2011 July*Ambassador Lunch Meeting
DESCRIPTION:Hilton Garden Inn Lunch Buffet  Good Old Country BBQ: Grilled Chicken Breast & Smoked Link Sausage\, Potato Salad\, Fresh Green Salad\, Ranch Style Beans and Dinner Rolls with Butter ~ Dessert: Peach Cobbler    Directions: Hilton Garden is across the street from the North Chamber
X-ALT-DESC;FMTTYPE=text/html:<DIV><P style="MARGIN: 0in 0in 0pt" class=MsoNormal><B style="mso-bidi-font-weight: normal"><SPAN style="FONT-SIZE: 14pt"><FONT face="Times New Roman">Hilton Garden Inn Lunch Buffet<?xml:namespace prefix = o ns = "urn:schemas-microsoft-com:office:office" /><o:p></o:p></FONT></SPAN></B></P><P style="MARGIN: 0in 0in 0pt" class=MsoNormal><o:p><FONT face="Times New Roman">&nbsp\;</FONT></o:p></P><P style="MARGIN: 0in 0in 0pt" class=MsoNormal><o:p><FONT face="Times New Roman">&nbsp\;</FONT></o:p></P><P style="LINE-HEIGHT: 150%\; MARGIN: 0in 0in 0pt" class=MsoNormal><FONT face="Times New Roman"><B style="mso-bidi-font-weight: normal"><SPAN style="LINE-HEIGHT: 150%\; FONT-SIZE: 14pt">Good Old Country BBQ</SPAN></B><SPAN style="LINE-HEIGHT: 150%\; FONT-SIZE: 14pt">: Grilled Chicken Breast &amp\; Smoked Link Sausage\, Potato Salad\, Fresh Green Salad\, Ranch Style Beans and Dinner Rolls with Butter ~ <B style="mso-bidi-font-weight: normal">Dessert</B>: Peach Cobbler </SPAN></FONT></P><P style="LINE-HEIGHT: 150%\; MARGIN: 0in 0in 0pt" class=MsoNormal><FONT face="Times New Roman"><SPAN style="LINE-HEIGHT: 150%\; FONT-SIZE: 14pt"></SPAN></FONT>&nbsp\;</P><P style="LINE-HEIGHT: 150%\; MARGIN: 0in 0in 0pt" class=MsoNormal><FONT face="Times New Roman"><SPAN style="LINE-HEIGHT: 150%\; FONT-SIZE: 14pt"></SPAN></FONT>&nbsp\;</P><P style="LINE-HEIGHT: 150%\; MARGIN: 0in 0in 0pt" class=MsoNormal><FONT face="Times New Roman"><SPAN style="LINE-HEIGHT: 150%\; FONT-SIZE: 14pt"></SPAN></FONT>&nbsp\;</P><P style="LINE-HEIGHT: 150%\; MARGIN: 0in 0in 0pt" class=MsoNormal><FONT face="Times New Roman"><SPAN style="LINE-HEIGHT: 150%\; FONT-SIZE: 14pt"><STRONG>Directions</STRONG>: Hilton Garden is across the street from the North Chamber<o:p></o:p></SPAN></FONT></P></DIV>
LOCATION:Hilton Garden Inn
UID:e.2020.888
SEQUENCE:3
DTSTAMP:20260422T065703Z
URL:https://cm-dev.metrosa.com/events/details/2011-july-ambassador-lunch-meeting-07-21-2011-888
END:VEVENT

END:VCALENDAR
