BEGIN:VCALENDAR
VERSION:2.0
PRODID:-//ChamberMaster//Event Calendar 2.0//EN
METHOD:PUBLISH
X-PUBLISHED-TTL:P3D
REFRESH-INTERVAL:P3D
CALSCALE:GREGORIAN
BEGIN:VEVENT
DTSTART:20110728T121500Z
DTEND:20110728T140000Z
X-MICROSOFT-CDO-ALLDAYEVENT:FALSE
SUMMARY:2011 July CIO Breakfast
DESCRIPTION:Date:  Thursday\, July 28thLocation:  Toyota Motor Manufacturing\, Texas\, Inc\nVisitor & Education Center\n1 Lone Star Pass building 47\nSan Antonio\, TX 78264-3413 Start Time:  8:00 AM CST – Breakfast & Networking.  Visitor’s Center self-tour also available.Tour Start Time:  9:00AM – 9:30AM.   The tour is located in the manufacturing plant\, which is a short drive from the Visitor’s Center.  We will be taking our own vehicles – Toyota does not provide transportation.  The field trip will tie into the August event on Lean IT.  By visiting the plant\,  attendees will be given a chance to see super-efficient and super effective business processes in place at the plant\, discuss them as they relate to IT in August\, and then apply some of the concepts to their own organizations. Guidelines:\n\nTMMTX maintains a safe and secure environment so please be aware of the\nfollowing guidelines:\n\n- Please arrive 30 minutes prior to the start of your scheduled tour time.\nTours begin promptly at their scheduled times.\n\n- No carry-on is permitted in the Visitor Center\, including purses\,\nbackpacks\, briefcases\, or bags of any kind. Please leave them in your\nvehicle.\n\n- Personal transportation is required while traveling on the TMMTX campus.\n\n- A valid photo ID will be required for each adult scheduled for the tour.\n\n- Cameras are allowed in the Visitor Center\, but must be checked in at the\nregistration desk before the plant tour. No cameras or camera phones are\nallowed in the manufacturing facility.\n\n\nClothing Requirements:\n\nImportant: Since this is a tour through an operational manufacturing\nfacility\, there is a certain dress code that must be followed without\nexception:\n\n- Long pants (no skirts\, no shorts)\n- Shirts must have sleeves (short sleeves acceptable: no sleeveless or cap\nsleeves)\n- Closed toe shoes must be worn. (No sandals or open toe shoes).\n- Safety glasses and hard hats will be supplied and must be worn at all\ntimes during the tour.
X-ALT-DESC;FMTTYPE=text/html:<P class=MsoNormal style="MARGIN: 0in 0in 0pt"><SPAN style="FONT-SIZE: 12pt\; FONT-FAMILY: 'Times New Roman'\,'serif'"><?xml:namespace prefix = o ns = "urn:schemas-microsoft-com:office:office" /><o:p>&nbsp\;</o:p></SPAN></P><P class=MsoNormal style="MARGIN: 0in 0in 0pt"><SPAN style="FONT-SIZE: 12pt\; FONT-FAMILY: 'Times New Roman'\,'serif'">Date:&nbsp\; Thursday\, July 28<SUP>th</SUP><o:p></o:p></SPAN></P><P class=MsoNormal style="MARGIN: 0in 0in 0pt"><SPAN style="FONT-SIZE: 12pt\; FONT-FAMILY: 'Times New Roman'\,'serif'">Location:&nbsp\; <SPAN style="COLOR: black">Toyota Motor Manufacturing\, Texas\, Inc<BR>Visitor &amp\; Education Center<BR>1 Lone Star Pass building 47<BR>San Antonio\, TX 78264-3413<o:p></o:p></SPAN></SPAN></P><P class=MsoNormal style="MARGIN: 0in 0in 0pt"><SPAN style="FONT-SIZE: 12pt\; FONT-FAMILY: 'Times New Roman'\,'serif'"><o:p>&nbsp\;</o:p></SPAN></P><P class=MsoNormal style="MARGIN: 0in 0in 0pt"><SPAN style="FONT-SIZE: 12pt\; FONT-FAMILY: 'Times New Roman'\,'serif'">Start Time:&nbsp\; 8:00 AM CST – Breakfast &amp\; Networking.&nbsp\; Visitor’s Center self-tour also available.<o:p></o:p></SPAN></P><P class=MsoNormal style="MARGIN: 0in 0in 0pt"><SPAN style="FONT-SIZE: 12pt\; FONT-FAMILY: 'Times New Roman'\,'serif'">Tour Start Time:&nbsp\; 9:00AM – 9:30AM.&nbsp\; <o:p></o:p></SPAN></P><P class=MsoNormal style="MARGIN: 0in 0in 0pt"><SPAN style="FONT-SIZE: 12pt\; FONT-FAMILY: 'Times New Roman'\,'serif'"><o:p>&nbsp\;</o:p></SPAN></P><P class=MsoNormal style="MARGIN: 0in 0in 0pt"><SPAN style="FONT-SIZE: 12pt\; FONT-FAMILY: 'Times New Roman'\,'serif'">The tour is located in the manufacturing plant\, which is a short drive from the Visitor’s Center.&nbsp\; We will be taking our own vehicles – Toyota does not provide transportation.<o:p></o:p></SPAN></P><P class=MsoNormal style="MARGIN: 0in 0in 0pt"><SPAN style="FONT-SIZE: 12pt\; FONT-FAMILY: 'Times New Roman'\,'serif'"><o:p>&nbsp\;</o:p></SPAN></P><P class=MsoNormal style="MARGIN: 0in 0in 0pt"><SPAN style="FONT-SIZE: 12pt\; FONT-FAMILY: 'Times New Roman'\,'serif'"><o:p>&nbsp\;</o:p></SPAN></P><P class=MsoNormal style="MARGIN: 0in 0in 0pt"><SPAN style="FONT-SIZE: 12pt\; FONT-FAMILY: 'Times New Roman'\,'serif'">The field trip will tie into the August event on Lean IT.&nbsp\; By visiting the plant\, &nbsp\;attendees will be given a chance to see super-efficient and super effective business processes in place at the plant\, discuss them as they relate to IT in August\, and then apply some of the concepts to their own organizations.<o:p></o:p></SPAN></P><P class=MsoNormal style="MARGIN: 0in 0in 0pt"><SPAN style="FONT-SIZE: 12pt\; FONT-FAMILY: 'Times New Roman'\,'serif'"><o:p>&nbsp\;</o:p></SPAN></P><P class=MsoNormal style="MARGIN: 0in 0in 12pt"><SPAN style="FONT-SIZE: 12pt\; COLOR: black\; FONT-FAMILY: 'Times New Roman'\,'serif'">Guidelines:<BR><BR>TMMTX maintains a safe and secure environment so please be aware of the<BR>following guidelines:<BR><BR>- Please arrive 30 minutes prior to the start of your scheduled tour time.<BR>Tours begin promptly at their scheduled times.<BR><BR>- No carry-on is permitted in the Visitor Center\, including purses\,<BR>backpacks\, briefcases\, or bags of any kind. Please leave them in your<BR>vehicle.<BR><BR>- Personal transportation is required while traveling on the TMMTX campus.<BR><BR>- A valid photo ID will be required for each adult scheduled for the tour.<BR><BR>- Cameras are allowed in the Visitor Center\, but must be checked in at the<BR>registration desk before the plant tour. No cameras or camera phones are<BR>allowed in the manufacturing facility.<BR><BR><BR>Clothing Requirements:<BR><BR>Important: Since this is a tour through an operational manufacturing<BR>facility\, there is a certain dress code that must be followed without<BR>exception:<BR><BR>- Long pants (no skirts\, no shorts)<BR>- Shirts must have sleeves (short sleeves acceptable: no sleeveless or cap<BR>sleeves)<BR>- Closed toe shoes must be worn. (No sandals or open toe shoes).<BR>- Safety glasses and hard hats will be supplied and must be worn at all<BR>times during the tour.</SPAN><SPAN style="FONT-SIZE: 12pt\; FONT-FAMILY: 'Times New Roman'\,'serif'"><o:p></o:p></SPAN></P><P class=MsoNormal style="MARGIN: 0in 0in 0pt"><SPAN style="FONT-SIZE: 12pt\; FONT-FAMILY: 'Times New Roman'\,'serif'"><o:p>&nbsp\;</o:p></SPAN></P><P>&nbsp\;</P>
LOCATION:Toyota Manufacturing
UID:e.2020.852
SEQUENCE:3
DTSTAMP:20260422T065455Z
URL:https://cm-dev.metrosa.com/events/details/2011-july-cio-breakfast-07-28-2011-852
END:VEVENT

END:VCALENDAR
