BEGIN:VCALENDAR
VERSION:2.0
PRODID:-//ChamberMaster//Event Calendar 2.0//EN
METHOD:PUBLISH
X-PUBLISHED-TTL:P3D
REFRESH-INTERVAL:P3D
CALSCALE:GREGORIAN
BEGIN:VEVENT
DTSTART:20110706T203000Z
DTEND:20110706T203000Z
X-MICROSOFT-CDO-ALLDAYEVENT:FALSE
SUMMARY:2011 July * Grand Opening ~ Ancira Volkswagen
DESCRIPTION:Ancira Volkswagen Location: 6125 Bandera Road\, SATX 78238 Wednesday July 6\, 2011Grand Opening Ceremony 03:00 p.m. Ribbon Cutting @ 03:30 p.m.Refreshments included. CONTACT: Darrell Dixon (210) 681-2300Website: http://volkswagenancira.com/CHAMBER CONTACT: Wendy Thomas @ 384-7724DIRECTIONS: Loop 410 West / exit north Bandera Road\, right side just after Wurzbach Rd
X-ALT-DESC;FMTTYPE=text/html:<DIV><FONT size=4><P><STRONG>Ancira Volkswagen </STRONG></P><P>Location: 6125 Bandera Road\, SATX 78238 </P><P>Wednesday July 6\, 2011</P><P><STRONG>Grand Opening Ceremony</STRONG> 03:00 p.m. </P><P><STRONG>Ribbon Cutting @ 03:30 p.m.</STRONG></P><P>Refreshments included. </P><P>CONTACT: Darrell Dixon (210) 681-2300</P><P>Website: </FONT><A href="http://volkswagenancira.com/"><U><FONT color=#0000ff size=4><FONT color=#0000ff size=4>http://volkswagenancira.com/</U></FONT></FONT></A></P><FONT size=4><P>CHAMBER CONTACT: Wendy Thomas @ 384-7724</P><P>DIRECTIONS: Loop 410 West / exit north Bandera Road\, right side just after Wurzbach Rd</P></FONT><FONT face=Calibri></FONT></DIV>
LOCATION:Ancira Volkswagen
UID:e.2020.901
SEQUENCE:3
DTSTAMP:20260422T065734Z
URL:https://cm-dev.metrosa.com/events/details/2011-july-grand-opening-ancira-volkswagen-07-06-2011-901
END:VEVENT

END:VCALENDAR
