BEGIN:VCALENDAR
VERSION:2.0
PRODID:-//ChamberMaster//Event Calendar 2.0//EN
METHOD:PUBLISH
X-PUBLISHED-TTL:P3D
REFRESH-INTERVAL:P3D
CALSCALE:GREGORIAN
BEGIN:VEVENT
DTSTART:20110715T153000Z
DTEND:20110715T153000Z
X-MICROSOFT-CDO-ALLDAYEVENT:FALSE
SUMMARY:2011 July * Grand Opening\, AT&T Store
DESCRIPTION:AT&T Store -Location: 1141 N LOOP 1604 E\, SAN ANTONIO\, TX 78232Friday July 15\, 2011Grand Opening Ceremony 10:30 a.m. Ribbon Cutting @ 10:30 a.m. Refreshments included. CONTACT: Matt Bannecker (210) 490-7117Website: http://www.att.com/shop/wireless/index.jsp#fbid=wsdkwZ38Zm9CHAMBER CONTACT: Wendy Thomas @ 384-7724Directions: 281 and 1604 in the same shopping center as Costco/Jason's Deli
X-ALT-DESC;FMTTYPE=text/html:<DIV><B><FONT size=4><P>AT&amp\;T Store -</P></B></FONT><FONT size=4><FONT size=4><P><FONT face="Times New Roman">Location: </FONT></FONT></FONT><B><FONT face="Times New Roman">1141 N LOOP 1604 E\, SAN ANTONIO\, TX 78232</FONT></P></B><FONT size=4><FONT size=4><P><FONT face="Times New Roman">Friday July 15\, 2011</FONT></P><P><FONT face="Times New Roman">Grand Opening Ceremony 10:30 a.m. </FONT></P><P><FONT face="Times New Roman"><STRONG>Ribbon Cutting @ 10:30 a.m. </STRONG></FONT></P><P><FONT face="Times New Roman">Refreshments included. </FONT></P><P><FONT face="Times New Roman">CONTACT: Matt Bannecker (210) 490-7117</FONT></P><P><FONT face="Times New Roman">Website: </FONT></FONT></FONT><A href="http://www.att.com/shop/wireless/index.jsp"><U><FONT color=#0000ff size=4 face="Times New Roman"><FONT color=#0000ff size=4 face="Times New Roman"><FONT color=#0000ff size=4 face="Times New Roman">http://www.att.com/shop/wireless/index.jsp#fbid=wsdkwZ38Zm9</U></FONT></FONT></FONT></A></P><FONT size=4 face="Times New Roman"><FONT size=4 face="Times New Roman"><P>CHAMBER CONTACT: Wendy Thomas @ 384-7724</P><P>Directions: </FONT></FONT><B><FONT face=Calibri>281 and 1604 in the same shopping center as Costco/Jason's Deli</P></B></FONT></DIV>
LOCATION:AT&T Store
UID:e.2020.902
SEQUENCE:3
DTSTAMP:20260422T065546Z
URL:https://cm-dev.metrosa.com/events/details/2011-july-grand-opening-at-t-store-07-15-2011-902
END:VEVENT

END:VCALENDAR
