BEGIN:VCALENDAR
VERSION:2.0
PRODID:-//ChamberMaster//Event Calendar 2.0//EN
METHOD:PUBLISH
X-PUBLISHED-TTL:P3D
REFRESH-INTERVAL:P3D
CALSCALE:GREGORIAN
BEGIN:VEVENT
DTSTART:20110722T183000Z
DTEND:20110722T193000Z
X-MICROSOFT-CDO-ALLDAYEVENT:FALSE
SUMMARY:2011 July Grand Opening * Cash America
DESCRIPTION:Cash America -Location: 3119 Thousand Oaks\, TX 78247Friday July 22\, 2011Grand Opening Ceremony 01:30 - 2:30 p.m. Ribbon Cutting @ 01:30 p.m. CONTACT: Sylvia Galvan (210) 477-4500Website: http://www.cashamerica.comCHAMBER CONTACT: Wendy Thomas @ 384-7724Directions: Thousand Oaks just pass Jones Maltsberger and H-E-B…Cash America is in a free standing building to the right.
X-ALT-DESC;FMTTYPE=text/html:<DIV><B><FONT size=4><P>Cash America -</P></B></FONT><FONT size=4><FONT size=4><P><FONT face="Times New Roman">Location: 3119 Thousand Oaks\,</FONT></FONT></FONT><B><FONT face="Times New Roman"> TX 78247</FONT></P></B><FONT size=4><FONT size=4><P><FONT face="Times New Roman">Friday July 22\, 2011</FONT></P><P><FONT face="Times New Roman">Grand Opening Ceremony 01:30 - 2:30 p.m. </FONT></P><P><FONT face="Times New Roman">Ribbon Cutting @ 01:30 p.m. </FONT></P><P><FONT face="Times New Roman">CONTACT: Sylvia Galvan (210) 477-4500</FONT></P><P><FONT face="Times New Roman">Website: </FONT></FONT></FONT><A href="http://www.cashamerica.com/"><U><FONT color=#0000ff size=4 face="Times New Roman"><FONT color=#0000ff size=4 face="Times New Roman"><FONT color=#0000ff size=4 face="Times New Roman">http://www.cashamerica.com</U></FONT></FONT></FONT></A></P><FONT size=4 face="Times New Roman"><FONT size=4 face="Times New Roman"><P>CHAMBER CONTACT: Wendy Thomas @ 384-7724</P><P>Directions: </FONT></FONT><B><FONT face=Calibri>Thousand Oaks just pass Jones Maltsberger and H-E-B…Cash America is in a free standing building to the right. </P></B></FONT></DIV>
LOCATION:Cash America
UID:e.2020.904
SEQUENCE:3
DTSTAMP:20260422T065734Z
URL:https://cm-dev.metrosa.com/events/details/2011-july-grand-opening-cash-america-07-22-2011-904
END:VEVENT

END:VCALENDAR
