BEGIN:VCALENDAR
VERSION:2.0
PRODID:-//ChamberMaster//Event Calendar 2.0//EN
METHOD:PUBLISH
X-PUBLISHED-TTL:P3D
REFRESH-INTERVAL:P3D
CALSCALE:GREGORIAN
BEGIN:VEVENT
DTSTART:20110714T134500Z
DTEND:20110714T144500Z
X-MICROSOFT-CDO-ALLDAYEVENT:FALSE
SUMMARY:2011 JULY*Grand Opening ~ HALF PRICE BOOKS
DESCRIPTION:HALF PRICE BOOKS20821 US Hwy 281\, Ste 214\, 78258Thursday July 14\, 2011GRAND OPENING EVENT - 8:45 - 9:45 a.m.RIBBON CUTTING @ 8:45 a.m.CONTACT: Kate Son (214) 564-5084 or the Store 545-3836CHAMBER CONTACT: Wendy Thomas @ 384-7724DIRECTIONS: U.S. Hwy 281N / Traveling north Turn left at Evans Road and the store is on the right in Stone Ridge Market Shopping Center. Refreshments will be served.
X-ALT-DESC;FMTTYPE=text/html:<P>HALF PRICE BOOKS</P><P>20821 US Hwy 281\, Ste 214\, 78258</P><P>Thursday July 14\, 2011</P><P>GRAND OPENING EVENT -&nbsp\;8:45 - 9:45 a.m.</P><P>RIBBON CUTTING @ 8:45 a.m.</P><P>CONTACT: Kate Son (214) 564-5084 or the Store 545-3836</P><P>CHAMBER CONTACT: Wendy Thomas @ 384-7724</P><P>DIRECTIONS: U.S. Hwy 281N / Traveling north&nbsp\;Turn left at Evans Road&nbsp\;and the store is on the right in Stone Ridge Market Shopping Center. </P><P>Refreshments will be served. </P>
LOCATION:Half Price Books
UID:e.2020.884
SEQUENCE:3
DTSTAMP:20260422T065734Z
URL:https://cm-dev.metrosa.com/events/details/2011-july-grand-opening-half-price-books-07-14-2011-884
END:VEVENT

END:VCALENDAR
