BEGIN:VCALENDAR
VERSION:2.0
PRODID:-//ChamberMaster//Event Calendar 2.0//EN
METHOD:PUBLISH
X-PUBLISHED-TTL:P3D
REFRESH-INTERVAL:P3D
CALSCALE:GREGORIAN
BEGIN:VEVENT
DTSTART:20110616T160000Z
DTEND:20110616T180000Z
X-MICROSOFT-CDO-ALLDAYEVENT:FALSE
SUMMARY:2011 June*Ambassador Lunch Meeting
DESCRIPTION:Please Indicate Your Choice (1-4): 1) Chicken Club (Grilled chicken breast\, monterey jack\, lettuce\, tomatoes & smoked bacon. Served with fries or onion strings)2) Fish & Chips (Flaky white fish in classic Samuel Adams beer batter. Served with fries and coleslaw)3) Fish & Shrimp (Crispy golden shrimp and fish fillets. Served with fries and coleslaw)4) Caesar Salad w/Chicken or Shrimp (Crisp romain lettuce\, parmesan cheese and classic Caesar dressing. With grilled chicken or shrimp) Beverage is included: Tea\, Lemonade or sodas
X-ALT-DESC;FMTTYPE=text/html:<P style="TEXT-INDENT: -1.5in\; MARGIN: 5pt 0in 5pt 1.5in\; mso-layout-grid-align: none" class=MsoNormal><B><FONT face="Times New Roman">Please Indicate Your Choice (1-4):<?xml:namespace prefix = o ns = "urn:schemas-microsoft-com:office:office" /><o:p></o:p></FONT></B></P><P style="TEXT-INDENT: -1.5in\; MARGIN: 5pt 0in 5pt 1.5in\; mso-layout-grid-align: none" class=MsoNormal><B><o:p><FONT face="Times New Roman">&nbsp\;</FONT></o:p></B></P><P style="TEXT-INDENT: -1.5in\; MARGIN: 5pt 0in 5pt 1.5in\; mso-layout-grid-align: none" class=MsoNormal><FONT face="Times New Roman"><B>1) Chicken Club (Grilled chicken breast\, </B><?xml:namespace prefix = st1 ns = "urn:schemas-microsoft-com:office:smarttags" /><st1:City><st1:place><B>monterey</B></st1:place></st1:City><B> jack\, lettuce\, tomatoes &amp\; smoked <o:p></o:p></B></FONT></P><P style="TEXT-INDENT: -1.5in\; MARGIN: 5pt 0in 5pt 1.5in\; mso-layout-grid-align: none" class=MsoNormal><B><FONT face="Times New Roman">bacon. Served with fries or onion strings)<o:p></o:p></FONT></B></P><P style="TEXT-INDENT: -1.5in\; MARGIN: 5pt 0in 5pt 1.5in\; mso-layout-grid-align: none" class=MsoNormal><B><FONT face="Times New Roman">2) Fish &amp\; Chips (Flaky white fish in classic Samuel Adams beer batter. Served with<o:p></o:p></FONT></B></P><P style="TEXT-INDENT: -1.5in\; MARGIN: 5pt 0in 5pt 1.5in\; mso-layout-grid-align: none" class=MsoNormal><B><FONT face="Times New Roman"><SPAN style="mso-spacerun: yes">&nbsp\;</SPAN>fries and coleslaw)<o:p></o:p></FONT></B></P><P style="TEXT-INDENT: -1.5in\; MARGIN: 5pt 0in 5pt 1.5in\; mso-layout-grid-align: none" class=MsoNormal><B><FONT face="Times New Roman">3) Fish &amp\; Shrimp (Crispy golden shrimp and fish fillets. Served with fries and <o:p></o:p></FONT></B></P><P style="TEXT-INDENT: -1.5in\; MARGIN: 5pt 0in 5pt 1.5in\; mso-layout-grid-align: none" class=MsoNormal><B><FONT face="Times New Roman">coleslaw)<o:p></o:p></FONT></B></P><P style="TEXT-INDENT: -1.5in\; MARGIN: 5pt 0in 5pt 1.5in\; mso-layout-grid-align: none" class=MsoNormal><B><FONT face="Times New Roman">4) Caesar Salad w/Chicken or Shrimp (Crisp romain lettuce\, parmesan cheese and <o:p></o:p></FONT></B></P><P style="TEXT-INDENT: -1.5in\; MARGIN: 5pt 0in 5pt 1.5in\; mso-layout-grid-align: none" class=MsoNormal><B><FONT face="Times New Roman">classic Caesar dressing. With grilled chicken or shrimp)<o:p></o:p></FONT></B></P><P style="TEXT-INDENT: -1.5in\; MARGIN: 5pt 0in 5pt 1.5in\; mso-layout-grid-align: none" class=MsoNormal><B><o:p><FONT face="Times New Roman">&nbsp\;</FONT></o:p></B></P><P style="TEXT-INDENT: -1.5in\; MARGIN: 5pt 0in 5pt 1.5in\; mso-layout-grid-align: none" class=MsoNormal><B><FONT face="Times New Roman">Beverage is included: Tea\, Lemonade or sodas<o:p></o:p></FONT></B></P><P style="MARGIN: 0in 0in 0pt" class=MsoNormal><o:p><FONT face="Times New Roman">&nbsp\;</FONT></o:p></P><P>&nbsp\;</P>
LOCATION:Joe's Crab Shack
UID:e.2020.887
SEQUENCE:3
DTSTAMP:20260422T080413Z
URL:https://cm-dev.metrosa.com/events/details/2011-june-ambassador-lunch-meeting-06-16-2011-887
END:VEVENT

END:VCALENDAR
