BEGIN:VCALENDAR
VERSION:2.0
PRODID:-//ChamberMaster//Event Calendar 2.0//EN
METHOD:PUBLISH
X-PUBLISHED-TTL:P3D
REFRESH-INTERVAL:P3D
CALSCALE:GREGORIAN
BEGIN:VEVENT
DTSTART:20110623T121500Z
DTEND:20110623T140000Z
X-MICROSOFT-CDO-ALLDAYEVENT:FALSE
SUMMARY:2011 June CIO Breakfast
DESCRIPTION:CIO Breakfast SeriesThursday\, June 23\, 2011\nLocation: Petroleum Club\n7:15 - 9:00 am  Richard Cole\, CIO\, Padgett StratemannIT has a responsibility to Incident Management within a firm\, but it is important that this responsibility be shared with the functional community. While an incident may be encountered and addressed within IT\, the impact many times is felt on a larger scale. Additionally\, an incident may not be technical in cause\, but IT may have a role to play in the company’s response or resolution. In this panel format\, we will discuss approaches for preparation\, mitigation\, detection\, response\, resolution\, and post mortem actions that we as IT leaders can take to reduce the impact an incident may have on our company as well as how lines of responsibility
X-ALT-DESC;FMTTYPE=text/html:<H1><FONT size=4>CIO Breakfast Series</FONT></H1><H2><FONT size=4>Thursday\, June 23\, 2011<BR>Location: Petroleum Club<BR>7:15 - 9:00 am</FONT></H2><P><TABLE id=agenda cellSpacing=0 cellPadding=0 border=0><TBODY><TR><TH><P>&nbsp\;</P></TH><TD><P>&nbsp\;</P></TD></TR><TR><TH></TH><TD></TD></TR><TR><TH></TH><TD><P>Richard Cole\, CIO\, Padgett Stratemann</P><P>IT has a responsibility to Incident Management within a firm\, but it is important that this responsibility be shared with the functional community. While an incident may be encountered and addressed within IT\, the impact many times is felt on a larger scale. Additionally\, an incident may not be technical in cause\, but IT may have a role to play in the company’s response or resolution. In this panel format\, we will discuss approaches for preparation\, mitigation\, detection\, response\, resolution\, and post mortem actions that we as IT leaders can take to reduce the impact an incident may have on our company as well as how lines of responsibility </P></TD></TR></TBODY></TABLE></P>
LOCATION:Petroleum Club of San Antonio
UID:e.2020.851
SEQUENCE:3
DTSTAMP:20260422T080337Z
URL:https://cm-dev.metrosa.com/events/details/2011-june-cio-breakfast-06-23-2011-851
END:VEVENT

END:VCALENDAR
