BEGIN:VCALENDAR
VERSION:2.0
PRODID:-//ChamberMaster//Event Calendar 2.0//EN
METHOD:PUBLISH
X-PUBLISHED-TTL:P3D
REFRESH-INTERVAL:P3D
CALSCALE:GREGORIAN
BEGIN:VEVENT
DTSTART:20110622T220000Z
DTEND:20110623T003000Z
X-MICROSOFT-CDO-ALLDAYEVENT:FALSE
SUMMARY:2011 June - Dr. Middleton Reception
DESCRIPTION:
X-ALT-DESC;FMTTYPE=text/html:
LOCATION:Barbaresco
UID:e.2020.900
SEQUENCE:3
DTSTAMP:20260422T080337Z
URL:https://cm-dev.metrosa.com/events/details/2011-june-dr-middleton-reception-06-22-2011-900
END:VEVENT

END:VCALENDAR
