BEGIN:VCALENDAR
VERSION:2.0
PRODID:-//ChamberMaster//Event Calendar 2.0//EN
METHOD:PUBLISH
X-PUBLISHED-TTL:P3D
REFRESH-INTERVAL:P3D
CALSCALE:GREGORIAN
BEGIN:VEVENT
DTSTART:20110616T230000Z
DTEND:20110617T000000Z
X-MICROSOFT-CDO-ALLDAYEVENT:FALSE
SUMMARY:2011 June Grand Opening*Westover Hills Rehab & Healthcare Ctr
DESCRIPTION:Westover Hills Rehabilitation & Healthcare Center Location: 9922 St Hwy 151\, SATX 78251 Thursday June 16\, 2011Grand Opening Ceremony begins with a blessing at 06:00 p.m. Ribbon Cutting @ 06:30 p.m.Refreshments include: Fajitas w/trimmings\, chocolate fountain\, hors d'oeuvers\,wine\, beer\, other refreshmentsMusic and entertainment. Open house to public…large community attendance is expected. CONTACT: Duncan Sczepanik (210) 546-2273CHAMBER CONTACT: Wendy Thomas @ 384-7724DIRECTIONS: Hwy 151 / Near Classic Mini Golf off Classic Drive (opposite end of highway and Rogers Road)
X-ALT-DESC;FMTTYPE=text/html:<DIV><FONT size=4><P>Westover Hills Rehabilitation &amp\; Healthcare Center </P><P>Location: 9922 St Hwy 151\, SATX 78251 </P><P>Thursday June 16\, 2011</P><P>Grand Opening Ceremony begins with a blessing at 06:00 p.m. </P><P>Ribbon Cutting @ 06:30 p.m.</P><P>Refreshments include: Fajitas w/trimmings\, chocolate fountain\, hors d'oeuvers\,wine\, beer\, other refreshments</P><P>Music and entertainment. Open house to public…large community attendance is expected. </P><P>CONTACT: Duncan Sczepanik (210) 546-2273</P><P>CHAMBER CONTACT: Wendy Thomas @ 384-7724</P><P>DIRECTIONS: Hwy 151 / Near Classic Mini Golf off Classic Drive (opposite end of highway and Rogers Road) </P></FONT></DIV>
LOCATION:Westover Hills Rehab & Healthcare Ctr
UID:e.2020.899
SEQUENCE:3
DTSTAMP:20260422T080456Z
URL:https://cm-dev.metrosa.com/events/details/2011-june-grand-opening-westover-hills-rehab-healthcare-ctr-06-16-2011-899
END:VEVENT

END:VCALENDAR
