BEGIN:VCALENDAR
VERSION:2.0
PRODID:-//ChamberMaster//Event Calendar 2.0//EN
METHOD:PUBLISH
X-PUBLISHED-TTL:P3D
REFRESH-INTERVAL:P3D
CALSCALE:GREGORIAN
BEGIN:VEVENT
DTSTART:20110618T050000Z
DTEND:20110618T050000Z
X-MICROSOFT-CDO-ALLDAYEVENT:FALSE
SUMMARY:2011 June*LLA Association Community Svc Day
DESCRIPTION:2011 June*LLA Association Community Svc Day
X-ALT-DESC;FMTTYPE=text/html:2011 June*LLA Association Community Svc Day
LOCATION:St. Francis Episcopal Church
UID:e.2020.4132
SEQUENCE:3
DTSTAMP:20260422T080412Z
URL:https://cm-dev.metrosa.com/events/details/2011-june-lla-association-community-svc-day-06-18-2011-4132
END:VEVENT

END:VCALENDAR
