BEGIN:VCALENDAR
VERSION:2.0
PRODID:-//ChamberMaster//Event Calendar 2.0//EN
METHOD:PUBLISH
X-PUBLISHED-TTL:P3D
REFRESH-INTERVAL:P3D
CALSCALE:GREGORIAN
BEGIN:VEVENT
DTSTART:20110601T150000Z
DTEND:20110601T160000Z
X-MICROSOFT-CDO-ALLDAYEVENT:FALSE
SUMMARY:2011 June * Ribbon Cutting Jordan's Wellness Center
DESCRIPTION:Jordan's Wellness Center Location: 4035 Naco Perrin\, Ste 106\, San Antonio TX 78217Wednesday June 1\, 2011Ribbon Cutting Ceremony 10: 00 a.m. - 11: 00 a.m.Ribbon Cutting @ 10:00 a.m.CONTACT: Crystal Barkley (210) 290-5058CHAMBER CONTACT: Wendy Thomas @ 384-7724DIRECTIONS: Near Nacodouches Rd and Wurzbach ParkwayWebsite: http://www.msb-matrix.com/
X-ALT-DESC;FMTTYPE=text/html:<P>Jordan's Wellness Center </P><P>Location: 4035 Naco Perrin\, Ste 106\, San Antonio TX 78217</P><P>Wednesday June 1\, 2011</P><P>Ribbon Cutting Ceremony 10: 00 a.m. - 11: 00 a.m.</P><P>Ribbon Cutting @ 10:00 a.m.</P><P>CONTACT: Crystal Barkley (210) 290-5058</P><P>CHAMBER CONTACT: Wendy Thomas @ 384-7724</P><P>DIRECTIONS: Near Nacodouches Rd and Wurzbach Parkway</P><P>Website: http://www.msb-matrix.com/</P>
LOCATION:Jordan's Wellness Center
UID:e.2020.896
SEQUENCE:3
DTSTAMP:20260422T082039Z
URL:https://cm-dev.metrosa.com/events/details/2011-june-ribbon-cutting-jordan-s-wellness-center-06-01-2011-896
END:VEVENT

END:VCALENDAR
