BEGIN:VCALENDAR
VERSION:2.0
PRODID:-//ChamberMaster//Event Calendar 2.0//EN
METHOD:PUBLISH
X-PUBLISHED-TTL:P3D
REFRESH-INTERVAL:P3D
CALSCALE:GREGORIAN
BEGIN:VEVENT
DTSTART:20100929T050000Z
DTEND:20101130T060000Z
X-MICROSOFT-CDO-ALLDAYEVENT:FALSE
SUMMARY:2011 Leadership Lab Fee
DESCRIPTION:2011 Leadership Lab Fee
X-ALT-DESC;FMTTYPE=text/html:2011 Leadership Lab Fee
LOCATION:North Chamber
UID:e.2020.4023
SEQUENCE:3
DTSTAMP:20260422T171323Z
URL:https://cm-dev.metrosa.com/events/details/2011-leadership-lab-fee-09-29-2010-4023
END:VEVENT

END:VCALENDAR
