BEGIN:VCALENDAR
VERSION:2.0
PRODID:-//ChamberMaster//Event Calendar 2.0//EN
METHOD:PUBLISH
X-PUBLISHED-TTL:P3D
REFRESH-INTERVAL:P3D
CALSCALE:GREGORIAN
BEGIN:VEVENT
DTSTART:20091204T060000Z
DTEND:20101231T060000Z
X-MICROSOFT-CDO-ALLDAYEVENT:FALSE
SUMMARY:2011 Leadership Lab Pending Applications
DESCRIPTION:2011 Leadership Lab Pending Applications
X-ALT-DESC;FMTTYPE=text/html:2011 Leadership Lab Pending Applications
LOCATION:North Chamber
UID:e.2020.2277
SEQUENCE:3
DTSTAMP:20260422T154940Z
URL:https://cm-dev.metrosa.com/events/details/2011-leadership-lab-pending-applications-12-04-2009-2277
END:VEVENT

END:VCALENDAR
