BEGIN:VCALENDAR
VERSION:2.0
PRODID:-//ChamberMaster//Event Calendar 2.0//EN
METHOD:PUBLISH
X-PUBLISHED-TTL:P3D
REFRESH-INTERVAL:P3D
CALSCALE:GREGORIAN
BEGIN:VEVENT
DTSTART:20100901T050000Z
DTEND:20100901T050000Z
X-MICROSOFT-CDO-ALLDAYEVENT:FALSE
SUMMARY:2011 Leadership Lab Sponsors
DESCRIPTION:2011 Leadership Lab Sponsors
X-ALT-DESC;FMTTYPE=text/html:2011 Leadership Lab Sponsors
LOCATION:North Chamber
UID:e.2020.2391
SEQUENCE:3
DTSTAMP:20260422T193156Z
URL:https://cm-dev.metrosa.com/events/details/2011-leadership-lab-sponsors-09-01-2010-2391
END:VEVENT

END:VCALENDAR
