BEGIN:VCALENDAR
VERSION:2.0
PRODID:-//ChamberMaster//Event Calendar 2.0//EN
METHOD:PUBLISH
X-PUBLISHED-TTL:P3D
REFRESH-INTERVAL:P3D
CALSCALE:GREGORIAN
BEGIN:VEVENT
DTSTART:20110310T060000Z
DTEND:20110310T060000Z
X-MICROSOFT-CDO-ALLDAYEVENT:FALSE
SUMMARY:2011 March*LLA Association Social Event
DESCRIPTION:2011 March*LLA Association Social Event
X-ALT-DESC;FMTTYPE=text/html:2011 March*LLA Association Social Event
LOCATION:The County Line
UID:e.2020.2483
SEQUENCE:3
DTSTAMP:20260422T115820Z
URL:https://cm-dev.metrosa.com/events/details/2011-march-lla-association-social-event-03-10-2011-2483
END:VEVENT

END:VCALENDAR
