BEGIN:VCALENDAR
VERSION:2.0
PRODID:-//ChamberMaster//Event Calendar 2.0//EN
METHOD:PUBLISH
X-PUBLISHED-TTL:P3D
REFRESH-INTERVAL:P3D
CALSCALE:GREGORIAN
BEGIN:VEVENT
DTSTART:20110504T183000Z
DTEND:20110504T193000Z
X-MICROSOFT-CDO-ALLDAYEVENT:FALSE
SUMMARY:2011 May*20th Anniversary Travis Wolff Ind Advisors & Accounts
DESCRIPTION:Travis Wolff Independent Advisors & Accountants 9901 IH 10\, Ste 500\, 78230Wednesday May 4\, 2011Anniversary Celebration @ 1:30 - 2:30 p.mRibbon Cutting @ 1:30 p.m.CONTACT: Sara Williams (972) 590-5249CHAMBER CONTACT: Wendy Thomas @ 384-7724Refreshments will be served.  DIRECTIONS: Your destination is 0.1 miles past WURZBACH RD If you reach COLONNADE BLVD you've gone about 0.1 miles too far
X-ALT-DESC;FMTTYPE=text/html:<P style="MARGIN: 0in 0in 0pt\; mso-layout-grid-align: none" class=MsoNormal><SPAN style="FONT-FAMILY: 'Times New Roman'\,'serif'\; FONT-SIZE: 14pt"><STRONG>Travis Wolff Independent Advisors &amp\; Accountants <?xml:namespace prefix = o ns = "urn:schemas-microsoft-com:office:office" /><o:p></o:p></STRONG></SPAN></P><P style="MARGIN: 0in 0in 0pt\; mso-layout-grid-align: none" class=MsoNormal><SPAN style="FONT-FAMILY: 'Times New Roman'\,'serif'\; FONT-SIZE: 14pt">9901 IH 10\, Ste 500\,&nbsp\;78230<o:p></o:p></SPAN></P><P style="MARGIN: 0in 0in 0pt\; mso-layout-grid-align: none" class=MsoNormal><SPAN style="FONT-FAMILY: 'Times New Roman'\,'serif'\; FONT-SIZE: 14pt">Wednesday May 4\, 2011<o:p></o:p></SPAN></P><P style="MARGIN: 0in 0in 0pt\; mso-layout-grid-align: none" class=MsoNormal><SPAN style="FONT-FAMILY: 'Times New Roman'\,'serif'\; FONT-SIZE: 14pt">Anniversary Celebration @ 1:30 - 2:30 p.m<o:p></o:p></SPAN></P><P style="MARGIN: 0in 0in 0pt\; mso-layout-grid-align: none" class=MsoNormal><SPAN style="FONT-FAMILY: 'Times New Roman'\,'serif'\; FONT-SIZE: 14pt"><STRONG>Ribbon Cutting @ 1:30 p.m.<o:p></o:p></STRONG></SPAN></P><P style="MARGIN: 0in 0in 0pt\; mso-layout-grid-align: none" class=MsoNormal><SPAN style="FONT-FAMILY: 'Times New Roman'\,'serif'\; FONT-SIZE: 14pt">CONTACT: Sara Williams (972) 590-5249<o:p></o:p></SPAN></P><P style="MARGIN: 0in 0in 0pt\; mso-layout-grid-align: none" class=MsoNormal><SPAN style="FONT-FAMILY: 'Times New Roman'\,'serif'\; FONT-SIZE: 14pt">CHAMBER CONTACT: Wendy Thomas @ 384-7724<o:p></o:p></SPAN></P><P style="MARGIN: 0in 0in 0pt\; mso-layout-grid-align: none" class=MsoNormal><SPAN style="FONT-FAMILY: 'Times New Roman'\,'serif'\; FONT-SIZE: 14pt">Refreshments will be served. <o:p></o:p></SPAN></P><P style="MARGIN: 0in 0in 0pt\; mso-layout-grid-align: none" class=MsoNormal><SPAN style="FONT-FAMILY: 'Times New Roman'\,'serif'\; FONT-SIZE: 14pt"><o:p>&nbsp\;</o:p></SPAN></P><P style="MARGIN: 5pt 0in 5pt 0.25in\; mso-layout-grid-align: none" class=MsoNormal><SPAN style="FONT-FAMILY: 'Times New Roman'\,'serif'\; FONT-SIZE: 14pt">DIRECTIONS: </SPAN><SPAN style="FONT-FAMILY: 'Times New Roman'\,'serif'\; FONT-SIZE: 12pt">Your destination is 0.1 miles past WURZBACH RD If you reach COLONNADE BLVD you've gone about 0.1 miles too far<o:p></o:p></SPAN></P><P>&nbsp\;</P>
LOCATION:Travis Wolff Ind. Advisors & Accountants
UID:e.2020.885
SEQUENCE:3
DTSTAMP:20260422T092321Z
URL:https://cm-dev.metrosa.com/events/details/2011-may-20th-anniversary-travis-wolff-ind-advisors-accounts-05-04-2011-885
END:VEVENT

END:VCALENDAR
