BEGIN:VCALENDAR
VERSION:2.0
PRODID:-//ChamberMaster//Event Calendar 2.0//EN
METHOD:PUBLISH
X-PUBLISHED-TTL:P3D
REFRESH-INTERVAL:P3D
CALSCALE:GREGORIAN
BEGIN:VEVENT
DTSTART:20110519T160000Z
DTEND:20110519T180000Z
X-MICROSOFT-CDO-ALLDAYEVENT:FALSE
SUMMARY:2011 May*Ambassador Lunch Meeting
DESCRIPTION:MENU: Mexican Table Buffet - Grilled chicken & beef fajita sauteed bell peppers\, black beans / Salsa bar with taco fixings\, guacamole ~ flour tortillas\, tortilla chips / Dessert: Assorted cookies / Iced tea & Lemonade PRICE: $15.00 all inclusive
X-ALT-DESC;FMTTYPE=text/html:<P>MENU: Mexican Table Buffet - Grilled chicken &amp\; beef fajita sauteed bell peppers\, black beans / Salsa bar with taco fixings\, guacamole ~ flour tortillas\, tortilla chips / Dessert: Assorted cookies / Iced tea &amp\; Lemonade </P><P>PRICE: $15.00 all inclusive</P>
LOCATION:Courtyard by Marriott @ Rim
UID:e.2020.886
SEQUENCE:3
DTSTAMP:20260422T092443Z
URL:https://cm-dev.metrosa.com/events/details/2011-may-ambassador-lunch-meeting-05-19-2011-886
END:VEVENT

END:VCALENDAR
