BEGIN:VCALENDAR
VERSION:2.0
PRODID:-//ChamberMaster//Event Calendar 2.0//EN
METHOD:PUBLISH
X-PUBLISHED-TTL:P3D
REFRESH-INTERVAL:P3D
CALSCALE:GREGORIAN
BEGIN:VEVENT
DTSTART:20110526T121500Z
DTEND:20110526T140000Z
X-MICROSOFT-CDO-ALLDAYEVENT:FALSE
SUMMARY:2011 May CIO Breakfast
DESCRIPTION:CIO Breakfast SeriesThursday\, May 26\, 2011Location: Petroleum Club 7:15 am:Registration & Breakfast7:50 am:Welcome & Introductions7:55 am:Software Security Assurance: Software Supply Chain Risk ManagementFacilitated by Chris Loer and James WaiselySpeaker: Joe Jarzombek\, Director for Software Assurance in the Department of Homeland Security (DHS) National Cyber Security Division\, Lt. Colonel\, US Air Force (retired). CSSLP. PMPSoftware systems and applications today can no longer ignore the requirement to address security risks posed by exploitable software. To do so passes that risk from the software or project directly to the organization. Join Mr. Jarzombek as he explains the critical need for building security into every phase of software development and offers tips on how to include this in your project management and quality assurances processes..
X-ALT-DESC;FMTTYPE=text/html:<P class=MsoNormal style="MARGIN: 0in 0in 0pt"><B><SPAN style="FONT-SIZE: 18pt\; COLOR: #74030c">CIO Breakfast Series<?xml:namespace prefix = o ns = "urn:schemas-microsoft-com:office:office" /><o:p></o:p></SPAN></B></P><P class=MsoNormal style="MARGIN: 0in 0in 0pt"><B><SPAN style="FONT-SIZE: 11.5pt\; COLOR: black">Thursday\, May 26\, 2011<o:p></o:p></SPAN></B></P><P class=MsoNormal style="MARGIN: 0in 0in 0pt"><B><SPAN style="FONT-SIZE: 11.5pt\; COLOR: black">Location: Petroleum Club<o:p></o:p></SPAN></B></P><P class=MsoNormal style="MARGIN: 3.75pt 0in"><SPAN style="FONT-SIZE: 9pt\; COLOR: black"></SPAN>&nbsp\;</P><P><TABLE class=MsoNormalTable id=agenda style="mso-cellspacing: 0in\; mso-yfti-tbllook: 1184\; mso-padding-alt: 0in 0in 0in 0in" cellSpacing=0 cellPadding=0 border=0><TBODY><TR style="mso-yfti-irow: 0\; mso-yfti-firstrow: yes"><TD style="BORDER-RIGHT: #ece9d8\; PADDING-RIGHT: 7.5pt\; BORDER-TOP: #ece9d8\; PADDING-LEFT: 0in\; PADDING-BOTTOM: 0in\; BORDER-LEFT: #ece9d8\; PADDING-TOP: 0in\; BORDER-BOTTOM: #ece9d8\; BACKGROUND-COLOR: transparent" vAlign=top noWrap><P class=MsoNormal style="MARGIN: 3.75pt 0in\; TEXT-ALIGN: center" align=center><B><SPAN style="FONT-SIZE: 9pt\; COLOR: black">7:15 am:<o:p></o:p></SPAN></B></P></TD><TD style="BORDER-RIGHT: #ece9d8\; PADDING-RIGHT: 7.5pt\; BORDER-TOP: #ece9d8\; PADDING-LEFT: 0in\; PADDING-BOTTOM: 0in\; BORDER-LEFT: #ece9d8\; PADDING-TOP: 0in\; BORDER-BOTTOM: #ece9d8\; BACKGROUND-COLOR: transparent" vAlign=top><P class=MsoNormal style="MARGIN: 3.75pt 0in"><SPAN style="FONT-SIZE: 9pt\; COLOR: black">Registration &amp\; Breakfast<o:p></o:p></SPAN></P></TD></TR><TR style="mso-yfti-irow: 1"><TD style="BORDER-RIGHT: #ece9d8\; PADDING-RIGHT: 7.5pt\; BORDER-TOP: #ece9d8\; PADDING-LEFT: 0in\; PADDING-BOTTOM: 0in\; BORDER-LEFT: #ece9d8\; PADDING-TOP: 0in\; BORDER-BOTTOM: #ece9d8\; BACKGROUND-COLOR: transparent" vAlign=top noWrap><P class=MsoNormal style="MARGIN: 0in 0in 0pt\; TEXT-ALIGN: center" align=center><B><SPAN style="FONT-SIZE: 9pt\; COLOR: black">7:50 am:<o:p></o:p></SPAN></B></P></TD><TD style="BORDER-RIGHT: #ece9d8\; PADDING-RIGHT: 7.5pt\; BORDER-TOP: #ece9d8\; PADDING-LEFT: 0in\; PADDING-BOTTOM: 0in\; BORDER-LEFT: #ece9d8\; PADDING-TOP: 0in\; BORDER-BOTTOM: #ece9d8\; BACKGROUND-COLOR: transparent" vAlign=top><P class=MsoNormal style="MARGIN: 0in 0in 0pt"><SPAN style="FONT-SIZE: 9pt\; COLOR: black">Welcome &amp\; Introductions<o:p></o:p></SPAN></P></TD></TR><TR style="mso-yfti-irow: 2\; mso-yfti-lastrow: yes"><TD style="BORDER-RIGHT: #ece9d8\; PADDING-RIGHT: 7.5pt\; BORDER-TOP: #ece9d8\; PADDING-LEFT: 0in\; PADDING-BOTTOM: 0in\; BORDER-LEFT: #ece9d8\; PADDING-TOP: 0in\; BORDER-BOTTOM: #ece9d8\; BACKGROUND-COLOR: transparent" vAlign=top noWrap><P class=MsoNormal style="MARGIN: 0in 0in 0pt\; TEXT-ALIGN: center" align=center><B><SPAN style="FONT-SIZE: 9pt\; COLOR: black">7:55 am:<o:p></o:p></SPAN></B></P></TD><TD style="BORDER-RIGHT: #ece9d8\; PADDING-RIGHT: 7.5pt\; BORDER-TOP: #ece9d8\; PADDING-LEFT: 0in\; PADDING-BOTTOM: 0in\; BORDER-LEFT: #ece9d8\; PADDING-TOP: 0in\; BORDER-BOTTOM: #ece9d8\; BACKGROUND-COLOR: transparent" vAlign=top><P class=MsoNormal style="MARGIN: 3.75pt 0in"><SPAN style="FONT-SIZE: 9pt\; COLOR: black">Software Security Assurance: Software Supply Chain Risk Management<o:p></o:p></SPAN></P><P class=MsoNormal style="MARGIN: 3.75pt 0in"><SPAN style="FONT-SIZE: 9pt\; COLOR: black">Facilitated by Chris Loer and James Waisely<o:p></o:p></SPAN></P><P class=MsoNormal style="MARGIN: 3.75pt 0in"><SPAN style="FONT-SIZE: 9pt\; COLOR: black">Speaker: Joe Jarzombek\, Director for Software Assurance in the Department of Homeland Security (DHS) National Cyber Security Division\, Lt. Colonel\, US Air Force (retired). CSSLP. PMP<o:p></o:p></SPAN></P><P class=MsoNormal style="MARGIN: 3.75pt 0in"><SPAN style="FONT-SIZE: 9pt\; COLOR: black">Software systems and applications today can no longer ignore the requirement to address security risks posed by exploitable software. To do so passes that risk from the software or project directly to the organization. Join Mr. Jarzombek as he explains the critical need for building security into every phase of software development and offers tips on how to include this in your project management and quality assurances processes.<o:p></o:p></SPAN></P><P class=MsoNormal style="MARGIN: 3.75pt 0in"><SPAN style="FONT-SIZE: 9pt\; COLOR: black">.<o:p></o:p></SPAN></P></TD></TR></TBODY></TABLE></P>
LOCATION:Petroleum Club of San Antonio
UID:e.2020.850
SEQUENCE:3
DTSTAMP:20260422T091941Z
URL:https://cm-dev.metrosa.com/events/details/2011-may-cio-breakfast-05-26-2011-850
END:VEVENT

END:VCALENDAR
