BEGIN:VCALENDAR
VERSION:2.0
PRODID:-//ChamberMaster//Event Calendar 2.0//EN
METHOD:PUBLISH
X-PUBLISHED-TTL:P3D
REFRESH-INTERVAL:P3D
CALSCALE:GREGORIAN
BEGIN:VEVENT
DTSTART:20110505T210000Z
DTEND:20110505T220000Z
X-MICROSOFT-CDO-ALLDAYEVENT:FALSE
SUMMARY:2011 May*Grand Opening Guerrero CPA
DESCRIPTION:GUERRERO & Co - CPA 12330 West Avenue\, Ste 204\, 78216Thursday May 5\, 2011Grand Opening @ 4:00 - 5:00 p.m Ribbon Cutting @ 4:00 p.m.CONTACT: Lindsay Carlisle (281) 455-0205CHAMBER CONTACT: Wendy Thomas @ 384-7724DIRECTIONS: Hwy 281 N @ Rhapsody\; travel to West Ave. Food and Refreshments will be served.
X-ALT-DESC;FMTTYPE=text/html:<P><STRONG>GUERRERO &amp\; Co - CPA </STRONG></P><P><STRONG>12330 West Avenue\, Ste 204\, 78216</STRONG></P><P><STRONG>Thursday May 5\, 2011</STRONG></P><P><STRONG>Grand Opening @ 4:00 - 5:00 p.m </STRONG></P><P><STRONG>Ribbon Cutting @ 4:00 p.m.</STRONG></P><P><STRONG>CONTACT: Lindsay Carlisle (281) 455-0205</STRONG></P><P><STRONG>CHAMBER CONTACT: Wendy Thomas @ 384-7724</STRONG></P><P><STRONG>DIRECTIONS: Hwy 281 N @ Rhapsody\; travel to West Ave. </STRONG></P><P><STRONG>Food and Refreshments will be served. </STRONG></P>
LOCATION:Guerrero CPA
UID:e.2020.880
SEQUENCE:3
DTSTAMP:20260422T092233Z
URL:https://cm-dev.metrosa.com/events/details/2011-may-grand-opening-guerrero-cpa-05-05-2011-880
END:VEVENT

END:VCALENDAR
