BEGIN:VCALENDAR
VERSION:2.0
PRODID:-//ChamberMaster//Event Calendar 2.0//EN
METHOD:PUBLISH
X-PUBLISHED-TTL:P3D
REFRESH-INTERVAL:P3D
CALSCALE:GREGORIAN
BEGIN:VEVENT
DTSTART:20110526T130000Z
DTEND:20110526T150000Z
X-MICROSOFT-CDO-ALLDAYEVENT:FALSE
SUMMARY:2011 May*LLA Education Seminar:Leadership as a Second Language
DESCRIPTION:
X-ALT-DESC;FMTTYPE=text/html:
LOCATION:Padgett Stratemann & Co.
UID:e.2020.897
SEQUENCE:3
DTSTAMP:20260422T092125Z
URL:https://cm-dev.metrosa.com/events/details/2011-may-lla-education-seminar-leadership-as-a-second-language-05-26-2011-897
END:VEVENT

END:VCALENDAR
