BEGIN:VCALENDAR
VERSION:2.0
PRODID:-//ChamberMaster//Event Calendar 2.0//EN
METHOD:PUBLISH
X-PUBLISHED-TTL:P3D
REFRESH-INTERVAL:P3D
CALSCALE:GREGORIAN
BEGIN:VEVENT
DTSTART:20110525T200000Z
DTEND:20110525T210000Z
X-MICROSOFT-CDO-ALLDAYEVENT:FALSE
SUMMARY:2011 May* Ribbon Cutting@Associated Builders & Contractors\, Inc./South Texas Chapter
DESCRIPTION:ASSOCIATED BUILDERS & CONTRACTORS\, INC. - SOUTH TEXAS CHAPTER Location: 814 Arion Parkway\, Suite 204 / SATX 78216 Wednesday May 25\,2011 Relocation Ceremony - 3: 00 p.m. - 4: 00 p.m.Ribbon Cutting @ 3: 00 p.m.CONTACT: Steven Schultz (210) 342-1994CHAMBER CONTACT: Wendy Thomas @ 384-7724DIRECTIONS:  If you are traveling North on 281 - you will exit Nakoma\, stay on the acess road through the light and make a right on Arion Blvd which is between Northside Ford and the IBC Building. Travel down Arion Blvd to the first street which is W Coker Loop and turn right. The new office suite is in the second building on the left hand side. The business located next to us is Baxter Southwest. Website: http://www.abcsouthtexas.org/
X-ALT-DESC;FMTTYPE=text/html:<P>ASSOCIATED BUILDERS &amp\; CONTRACTORS\, INC. - SOUTH TEXAS CHAPTER </P><P>Location: 814 Arion Parkway\, Suite 204 / SATX 78216 </P><P>Wednesday May 25\,2011 </P><P>Relocation Ceremony - 3: 00 p.m. - 4: 00 p.m.</P><P>Ribbon Cutting @ 3: 00 p.m.</P><P>CONTACT: Steven Schultz (210) 342-1994</P><P>CHAMBER CONTACT: Wendy Thomas @ 384-7724</P><P>DIRECTIONS:&nbsp\; If you are traveling North on 281 - you will exit Nakoma\, stay on the acess road through the light and make a right on Arion Blvd which is between Northside Ford and the IBC Building. Travel down Arion Blvd to the first street which is W Coker Loop and turn right. The new office suite is in the second building on the left hand side. The business located next to us is Baxter Southwest. </P><P>Website: http://www.abcsouthtexas.org/</P>
LOCATION:Associated Builders & Contractors\, Inc. - South Texas Chapte
UID:e.2020.895
SEQUENCE:3
DTSTAMP:20260422T092410Z
URL:https://cm-dev.metrosa.com/events/details/2011-may-ribbon-cutting-associated-builders-contractors-inc-south-texas-chapter-05-25-2011-895
END:VEVENT

END:VCALENDAR
