BEGIN:VCALENDAR
VERSION:2.0
PRODID:-//ChamberMaster//Event Calendar 2.0//EN
METHOD:PUBLISH
X-PUBLISHED-TTL:P3D
REFRESH-INTERVAL:P3D
CALSCALE:GREGORIAN
BEGIN:VEVENT
DTSTART:20111118T160000Z
DTEND:20111118T170000Z
X-MICROSOFT-CDO-ALLDAYEVENT:FALSE
SUMMARY:2011 Nov Grand Opening ~ Baptist Emergency Hospital Partnership Emerus
DESCRIPTION:Baptist Emergency Hospital -Location: 16088 San Pedro Ave\, SAT 78232 Friday Nov 18\, 2011Grand Opening Ceremony ~ 10:00 a.m. Ribbon Cutting @ 10:00 a.m. CONTACT: Ms. Rachel Hedstrom (210) 972-365-7741  CHAMBER CONTACT: Wendy Thomas @ 384-7724
X-ALT-DESC;FMTTYPE=text/html:<DIV><B><FONT size=4><P>Baptist Emergency Hospital -</P></B><P>Location: 16088 San Pedro Ave\, SAT 78232 </P><P>Friday Nov 18\, 2011</P><B><P>Grand Opening Ceremony ~ 10</B>:00 a.m.</P><P> Ribbon Cutting @ 10:00 a.m. </P><P>CONTACT: Ms. Rachel Hedstrom (210) 972-365-7741 </P><P> </P><P>CHAMBER CONTACT: Wendy Thomas @ 384-7724</P></FONT><I><FONT color=#666666></I></FONT><FONT face=Calibri><P> </P></FONT></DIV>
LOCATION:Baptist Emergency Hospital Partnership Emerus
UID:e.2020.945
SEQUENCE:3
DTSTAMP:20260422T012805Z
URL:https://cm-dev.metrosa.com/events/details/2011-nov-grand-opening-baptist-emergency-hospital-partnership-emerus-11-18-2011-945
END:VEVENT

END:VCALENDAR
