BEGIN:VCALENDAR
VERSION:2.0
PRODID:-//ChamberMaster//Event Calendar 2.0//EN
METHOD:PUBLISH
X-PUBLISHED-TTL:P3D
REFRESH-INTERVAL:P3D
CALSCALE:GREGORIAN
BEGIN:VEVENT
DTSTART:20111110T163000Z
DTEND:20111110T173000Z
X-MICROSOFT-CDO-ALLDAYEVENT:FALSE
SUMMARY:2011 Nov ~ Relocation New Horizons of San Antonio
DESCRIPTION:New Horizons of San Antonio -Location: 2727 NW Loop 410\, Suite 103 SAT 78230 Thursday Nov 10\, 2011Relocation Ceremony 10:30 a.m.Ribbon Cutting @ 10:30 a.m. CONTACT: Ms. Kendra Dehm (512) 349-9555 X 2493CHAMBER CONTACT: Wendy Thomas @ 384-7724Website: http://www.nhcomputerlearning.com/
X-ALT-DESC;FMTTYPE=text/html:<DIV><B><FONT size=4><P>New Horizons of San Antonio -</P></B><P>Location: 2727 NW Loop 410\, Suite 103 SAT 78230 </P><P>Thursday Nov 10\, 2011</P><P>Relocation Ceremony 10:30 a.m.</P><P>Ribbon Cutting @ 10:30 a.m. </P><P>CONTACT: Ms. Kendra Dehm (512) 349-9555 X 2493</P><P>CHAMBER CONTACT: Wendy Thomas @ 384-7724</P></FONT><I><FONT color=#666666></I></FONT><FONT size=4><P>Website: </FONT><A href="http://www.nhcomputerlearning.com/"><U><FONT color=#0000ff size=4><FONT color=#0000ff size=4>http://www.nhcomputerlearning.com/</U></FONT></FONT></A></P><FONT face=Calibri></FONT></DIV>
LOCATION:New Horizons of San Antonio
UID:e.2020.944
SEQUENCE:3
DTSTAMP:20260422T012748Z
URL:https://cm-dev.metrosa.com/events/details/2011-nov-relocation-new-horizons-of-san-antonio-11-10-2011-944
END:VEVENT

END:VCALENDAR
