BEGIN:VCALENDAR
VERSION:2.0
PRODID:-//ChamberMaster//Event Calendar 2.0//EN
METHOD:PUBLISH
X-PUBLISHED-TTL:P3D
REFRESH-INTERVAL:P3D
CALSCALE:GREGORIAN
BEGIN:VEVENT
DTSTART:20111117T173000Z
DTEND:20111117T190000Z
X-MICROSOFT-CDO-ALLDAYEVENT:FALSE
SUMMARY:2011 November*Ambassador Lunch Meeting
DESCRIPTION:Registration is now available on the web!  DATE/TIME: Thursday November 17\, 2011 / 11:30 AM to 1:00 PM LOCATION: Courtyard San Antonio Northwest at the Rim 5731 Rim Pass DriveSan Antonio Tx 78257210-558-7775Menu:  Entrée: Mexican Table Buffet: Grilled chicken & beef fajitas • Sauteed bell peppers • Black beans • Salsa bar with taco fixings • Guacamole • Flour Tortillas and Tortilla chipsDessert: Assorted cookies Beverage: Water\, iced tea and lemonade PRICE: $15.50 all inclusive ~ Thank you! RSVP'S: DEADLINE IS Monday –Nov14\, 2011- NOON WITH PAYMENT FOR YOUR TEAM’S EXTRA 300 POINTS. Registration goes off website midnight Wednesday Nov 16\, 2011. REGISTER ON LINE WITH CREDIT CARD AT www.northsachamber.com
X-ALT-DESC;FMTTYPE=text/html:<DIV><B><FONT color=#800000><P>Registration is now available on the web! </P></FONT><U><FONT face="Times New Roman"><P> </P><P>DATE/TIME:</U> <U>Thursday</U> November </FONT><FONT face=Verdana>17\, 2011 / 11:30 AM to 1:00 PM</P></FONT><U><FONT face="Times New Roman"><P> </P><DIR><DIR><DIR><DIR><DIR><DIR><P>LOCATION:</U> </P></DIR></DIR></DIR></DIR></DIR></DIR></B></FONT><P align=center><CENTER><TABLE dir=ltr border=0 cellSpacing=0 cellPadding=1 width=439><TBODY><TR><TD><FONT face=Verdana><P>Courtyard San Antonio Northwest at the Rim </FONT></P></TD></TR><TR><TD><FONT face=Verdana><P>5731 Rim Pass Drive</FONT></P></TD></TR><TR><TD><FONT face=Verdana><P>San Antonio Tx 78257</FONT></P></TD></TR><TR><TD><FONT face=Arial><P>210-558-7775</FONT></P></TD></TR></TBODY></TABLE></CENTER><P></P><DIR><DIR><DIR><DIR><DIR><DIR><B><FONT face="Times New Roman"><P></P></DIR></DIR></DIR></DIR></DIR></DIR><U><P>Menu:</U> </FONT><FONT face=Arial></B> </P><B><P>Entrée: Mexican Table Buffet:</B> Grilled chicken &amp\; beef fajitas </FONT><FONT face=Arial>•</FONT><FONT face=Arial> Sauteed bell peppers </FONT><FONT face=Arial>•</FONT><FONT face=Arial> Black beans </FONT><FONT face=Arial>•</FONT><FONT face=Arial> Salsa bar with taco fixings </FONT><FONT face=Arial>•</FONT><FONT face=Arial> Guacamole </FONT><FONT face=Arial>•</FONT><FONT face=Arial> Flour Tortillas and Tortilla chips</P><B><P>Dessert: </B>Assorted cookies </P><B><I></I><P>Beverage</B>: Water\, iced tea and lemonade</P></FONT><B><FONT face="Times New Roman"><P> </P><U><P>PRICE:</U> </FONT><FONT color=#ff0000 face="Times New Roman"><FONT color=#ff0000 face="Times New Roman">$15.50 all inclusive ~ Thank you! </P></FONT></FONT><FONT face="Times New Roman"><DIR><DIR><DIR><DIR><DIR><DIR><U><P>RSVP'S:</U> </FONT><U><FONT color=#0000ff face="Times New Roman"><FONT color=#0000ff face="Times New Roman">DEADLINE IS Monday –Nov14\, 2011- NOON WITH PAYMENT FOR YOUR TEAM’S EXTRA 300 POINTS.</FONT></FONT><FONT color=#993300 face="Times New Roman"><FONT color=#993300 face="Times New Roman"> </P></FONT></FONT><FONT color=#c00000 face="Times New Roman"><FONT color=#c00000 face="Times New Roman"><P>Registration goes off website midnight Wednesday Nov 16\, 2011. </P></FONT></FONT><FONT face="Times New Roman"></DIR></DIR></DIR></DIR></DIR></DIR></U></FONT><FONT color=#c00000 face="Times New Roman"><FONT color=#c00000 face="Times New Roman"><P>REGISTER ON LINE WITH CREDIT CARD AT</FONT></FONT><FONT color=#ff0000 face="Times New Roman"><FONT color=#ff0000 face="Times New Roman"> </B></FONT></FONT><A href="http://www.northsachamber.com/"><B><U><FONT color=#0000ff face="Times New Roman"><FONT color=#0000ff face="Times New Roman">www.northsachamber.com</B></U></FONT></FONT></A></P><FONT face=Calibri></FONT></DIV>
LOCATION:Courtyard SA Northwest at the Rim
UID:e.2020.892
SEQUENCE:3
DTSTAMP:20260422T011743Z
URL:https://cm-dev.metrosa.com/events/details/2011-november-ambassador-lunch-meeting-11-17-2011-892
END:VEVENT

END:VCALENDAR
