BEGIN:VCALENDAR
VERSION:2.0
PRODID:-//ChamberMaster//Event Calendar 2.0//EN
METHOD:PUBLISH
X-PUBLISHED-TTL:P3D
REFRESH-INTERVAL:P3D
CALSCALE:GREGORIAN
BEGIN:VEVENT
DTSTART:20111021T150000Z
DTEND:20111021T160000Z
X-MICROSOFT-CDO-ALLDAYEVENT:FALSE
SUMMARY:2011 Oct 21 Relocation ~ Broadway Bank\, Huebner Rd.
DESCRIPTION:Broadway Bank -Location: 16767 Huebner\, SAT 78248Friday Oct 21\, 2011Relocation Ceremony 10:00 a.m.Ribbon Cutting @ 10:00 a.m. CONTACT: Ms. Sara Brouillard (210) 283-5395 CHAMBER CONTACT: Wendy Thomas @ 384-7724Directions: Huebner @ W. Bitters - See website for detailed mapWebsite: http://www.broadwaybank.com/
X-ALT-DESC;FMTTYPE=text/html:<DIV><B><FONT size=4><P>Broadway Bank -</P></B></FONT><FONT size=4 face="Times New Roman"><FONT size=4 face="Times New Roman"><P>Location: 16767 Huebner\, SAT 78248</P><P>Friday Oct 21\, 2011</P><P>Relocation Ceremony 10:00 a.m.</P><P>Ribbon Cutting @ 10:00 a.m. </P><P></P><P>CONTACT: Ms. Sara Brouillard (210) 283-5395 </P><P></P><P>CHAMBER CONTACT: Wendy Thomas @ 384-7724</P><P></P><P>Directions: Huebner @ W. Bitters - See website for detailed map</P></FONT></FONT><I><FONT color=#666666 face="Times New Roman"><FONT color=#666666 face="Times New Roman"></I></FONT></FONT><FONT size=4 face="Times New Roman"><FONT size=4 face="Times New Roman"><P>Website: </FONT></FONT><A href="http://www.broadwaybank.com/"><U><FONT color=#0000ff size=4 face="Times New Roman"><FONT color=#0000ff size=4 face="Times New Roman"><FONT color=#0000ff size=4 face="Times New Roman">http://www.broadwaybank.com/</U></FONT></FONT></FONT></A></P></DIV>
LOCATION:Broadway Bank
UID:e.2020.922
SEQUENCE:3
DTSTAMP:20260422T025529Z
URL:https://cm-dev.metrosa.com/events/details/2011-oct-21-relocation-broadway-bank-huebner-rd-10-21-2011-922
END:VEVENT

END:VCALENDAR
