BEGIN:VCALENDAR
VERSION:2.0
PRODID:-//ChamberMaster//Event Calendar 2.0//EN
METHOD:PUBLISH
X-PUBLISHED-TTL:P3D
REFRESH-INTERVAL:P3D
CALSCALE:GREGORIAN
BEGIN:VEVENT
DTSTART:20111026T200000Z
DTEND:20111026T203000Z
X-MICROSOFT-CDO-ALLDAYEVENT:FALSE
SUMMARY:2011 Oct 26 Relocation ~ Texas AgFinance
DESCRIPTION:Texas AgFinance -Location: 16011 Via Shavano\, SAT 78249 Wednesday Oct 26\, 2011Relocation Ceremony ~ 03:00 p.m.Open house 1 - 6 p.m. Ribbon Cutting @ 03:00 p.m. CONTACT: Mr. Jeremey Bryant (210) 798-6280 CHAMBER CONTACT: Wendy Thomas @ 384-7724Website includes detailed map: http://www.texasagfinance.com/offices.asp?brID=256
X-ALT-DESC;FMTTYPE=text/html:<DIV><B><FONT size=4><P>Texas AgFinance -</P></B><P>Location: 16011 Via Shavano\, SAT 78249 </P><P>Wednesday Oct 26\, 2011</P><B><P>Relocation Ceremony ~ </B>03:00 p.m.</P><P>Open house 1 - 6 p.m. </P><P>Ribbon Cutting @ 03:00 p.m. </P><P>CONTACT: Mr. Jeremey Bryant (210) 798-6280 </P><P></P><P>CHAMBER CONTACT: Wendy Thomas @ 384-7724</P></FONT><I><FONT color=#666666></I></FONT><FONT size=4><P>Website includes detailed map: </FONT><A href="http://www.texasagfinance.com/offices.asp?brID=256"><U><FONT color=#0000ff size=4><FONT color=#0000ff size=4>http://www.texasagfinance.com/offices.asp?brID=256</U></FONT></FONT></A></P></DIV>
LOCATION:Texas AgFinance
UID:e.2020.943
SEQUENCE:3
DTSTAMP:20260422T024914Z
URL:https://cm-dev.metrosa.com/events/details/2011-oct-26-relocation-texas-agfinance-10-26-2011-943
END:VEVENT

END:VCALENDAR
