BEGIN:VCALENDAR
VERSION:2.0
PRODID:-//ChamberMaster//Event Calendar 2.0//EN
METHOD:PUBLISH
X-PUBLISHED-TTL:P3D
REFRESH-INTERVAL:P3D
CALSCALE:GREGORIAN
BEGIN:VEVENT
DTSTART:20111007T190000Z
DTEND:20111007T200000Z
X-MICROSOFT-CDO-ALLDAYEVENT:FALSE
SUMMARY:2011 Oct 7 Grand Opening Ancira Fiat
DESCRIPTION:Ancira Fiat -Location: 10739 IH 10 West\, SAT 78230Friday Oct 7\, 2011Grand Opening Ceremony 02:00 p.m.Ribbon Cutting @ 02:00 p.m. CONTACT: Mr. Ralph Culp (210) 954-3618 CHAMBER CONTACT: Wendy Thomas @ 384-7724Directions: IH 10 W Between Wurzbach and Huebner http://www.fiatusaofsanantonio.com/dealership/directions.htm Website: http://www.fiatusaofsanantonio.com/index.htm
X-ALT-DESC;FMTTYPE=text/html:<DIV><B><FONT size=4><P>Ancira Fiat -</P></B><P>Location: 10739 IH 10 West\, SAT 78230</P><P>Friday Oct 7\, 2011</P><P>Grand Opening Ceremony 02:00 p.m.</P><P>Ribbon Cutting @ 02:00 p.m. </P><P>CONTACT: Mr. Ralph Culp (210) 954-3618 </P><P>CHAMBER CONTACT: Wendy Thomas @ 384-7724</P><P>Directions: IH 10 W Between Wurzbach and Huebner </P><P></FONT><A href="http://www.fiatusaofsanantonio.com/dealership/directions.htm"><U><FONT color=#0000ff size=4><FONT color=#0000ff size=4>http://www.fiatusaofsanantonio.com/dealership/directions.htm</U></FONT></FONT></A></P><FONT size=4></FONT><I><FONT color=#666666><P> </P></I></FONT><FONT size=4><P>Website: </FONT><A href="http://www.fiatusaofsanantonio.com/index.htm"><U><FONT color=#0000ff size=4><FONT color=#0000ff size=4>http://www.fiatusaofsanantonio.com/index.htm</U></FONT></FONT></A></P><FONT size=4></FONT><P> </P><FONT face=Calibri><P> </P></FONT></DIV>
LOCATION:Ancira Fiat
UID:e.2020.924
SEQUENCE:3
DTSTAMP:20260422T025724Z
URL:https://cm-dev.metrosa.com/events/details/2011-oct-7-grand-opening-ancira-fiat-10-07-2011-924
END:VEVENT

END:VCALENDAR
