BEGIN:VCALENDAR
VERSION:2.0
PRODID:-//ChamberMaster//Event Calendar 2.0//EN
METHOD:PUBLISH
X-PUBLISHED-TTL:P3D
REFRESH-INTERVAL:P3D
CALSCALE:GREGORIAN
BEGIN:VEVENT
DTSTART:20111021T050000Z
DTEND:20111021T050000Z
X-MICROSOFT-CDO-ALLDAYEVENT:FALSE
SUMMARY:2011 Oct*Leadership Lab Alumni Education Event
DESCRIPTION:2011 Oct*Leadership Lab Alumni Education Event
X-ALT-DESC;FMTTYPE=text/html:2011 Oct*Leadership Lab Alumni Education Event
LOCATION:Ye Kendall Inn
UID:e.2020.2536
SEQUENCE:3
DTSTAMP:20260422T025614Z
URL:https://cm-dev.metrosa.com/events/details/2011-oct-leadership-lab-alumni-education-event-10-21-2011-2536
END:VEVENT

END:VCALENDAR
