BEGIN:VCALENDAR
VERSION:2.0
PRODID:-//ChamberMaster//Event Calendar 2.0//EN
METHOD:PUBLISH
X-PUBLISHED-TTL:P3D
REFRESH-INTERVAL:P3D
CALSCALE:GREGORIAN
BEGIN:VEVENT
DTSTART:20111008T160000Z
DTEND:20111008T200000Z
X-MICROSOFT-CDO-ALLDAYEVENT:FALSE
SUMMARY:2011 OCT * LLab Alumni* Lucky Duck Race & Fesitval
DESCRIPTION:
X-ALT-DESC;FMTTYPE=text/html:
LOCATION:Paseo del Rio Association
UID:e.2020.906
SEQUENCE:3
DTSTAMP:20260422T025642Z
URL:https://cm-dev.metrosa.com/events/details/2011-oct-llab-alumni-lucky-duck-race-fesitval-10-08-2011-906
END:VEVENT

END:VCALENDAR
