BEGIN:VCALENDAR
VERSION:2.0
PRODID:-//ChamberMaster//Event Calendar 2.0//EN
METHOD:PUBLISH
X-PUBLISHED-TTL:P3D
REFRESH-INTERVAL:P3D
CALSCALE:GREGORIAN
BEGIN:VEVENT
DTSTART:20111019T163000Z
DTEND:20111019T180000Z
X-MICROSOFT-CDO-ALLDAYEVENT:FALSE
SUMMARY:2011 October*Ambassador Lunch Meeting
DESCRIPTION:DATE/TIME: WEDNESDAY\, October 19\, 2011 / 11:30 AM to 1:00 PMLOCATION: Crowne Plaza San Antonio Airport1111 NE Loop 410San Antonio Tx 78209210-828-9031Menu: Entree: Chicken Monterrey - Plated Lunch: Fresh garden salad •Tender Breast of Chicken topped with Monterrey Jack Cheese and Avocado • Roasted Potatoes • Seasonal VegetablesWednesday • Rolls and butter • Create Your Own Pasta (alfredo\, tomato\, or spicy marinara)Includes * Chef's Choice DessertBeverage: Water\, tea and freshly brewed coffee and DecafPRICE: $18.00 all inclusive ~ Thank you! RSVP'S: DEADLINE IS Monday – Oct 17\, 2011- NOON WITH PAYMENT FOR YOUR TEAM’S EXTRA 300 POINTS. Registration goes off website midnight Tuesday Oct 18\, 2011. REGISTER ON LINE WITH CREDIT CARD AT www.northsachamber.com
X-ALT-DESC;FMTTYPE=text/html:<DIV style="FONT-FAMILY: Arial"><SPAN lang=EN><P><FONT face="Times New Roman">DATE/TIME: <U>WEDNESDAY</U>\, October 19\, 2011 / 11:30 AM to 1:00 PM</FONT></P><U><P><FONT face="Times New Roman">LOCATION:</FONT></U><FONT face="Times New Roman"> </FONT></P></SPAN><P align=center><FONT face="Times New Roman"></FONT><CENTER><TABLE dir=ltr border=0 cellSpacing=0 cellPadding=1 width=439><TBODY><TR><TD><SPAN lang=EN><P><FONT face="Times New Roman">Crowne Plaza San Antonio Airport</FONT></SPAN></P></TD></TR><TR><TD><SPAN lang=EN><P><FONT face="Times New Roman">1111 NE Loop 410</FONT></SPAN></P></TD></TR><TR><TD><SPAN lang=EN><P><FONT face="Times New Roman">San Antonio Tx 78209</FONT></SPAN></P></TD></TR><TR><TD><SPAN lang=EN><P><FONT face="Times New Roman">210-828-9031</FONT></SPAN></P></TD></TR></TBODY></TABLE></CENTER><P><FONT face="Times New Roman"></FONT></P><DIR><DIR><DIR><DIR><DIR><DIR><B><SPAN lang=EN><P><FONT face="Times New Roman"></FONT></P></DIR></DIR></DIR></DIR></DIR></DIR><U><P><FONT face="Times New Roman">Menu:</FONT></U><FONT face="Times New Roman"> </FONT></P></B><P><FONT face="Times New Roman"></FONT></P><B><P><FONT face="Times New Roman">Entree: Chicken Monterrey - Plated Lunch:</FONT></B><FONT face="Times New Roman"> Fresh garden salad •Tender Breast of Chicken topped with Monterrey Jack Cheese and Avocado • Roasted Potatoes • Seasonal VegetablesWednesday • Rolls and butter • Create Your Own Pasta (alfredo\, tomato\, or spicy marinara)</FONT></P><P><FONT face="Times New Roman">Includes * Chef's Choice Dessert</FONT></P><B><I></I><P><FONT face="Times New Roman">Beverage</FONT></B><FONT face="Times New Roman">: Water\, tea and freshly brewed coffee and Decaf</FONT></P><P><FONT face="Times New Roman"></FONT><B></P><U><P><FONT face="Times New Roman">PRICE:</FONT></U><FONT face="Times New Roman"> <FONT color=#ff0000>$18.00 all inclusive ~ Thank you! </P></FONT></FONT><DIR><DIR><DIR><DIR><DIR><DIR><U><P><FONT face="Times New Roman">RSVP'S:</FONT></U><FONT face="Times New Roman"> </FONT><U><FONT face="Times New Roman"><FONT color=#0000ff>DEADLINE IS Monday – Oct 17\, 2011- NOON WITH PAYMENT FOR YOUR TEAM’S EXTRA 300 POINTS.</FONT><FONT color=#993300> </P></FONT></FONT><FONT color=#c00000 face="Times New Roman"><P>Registration goes off website midnight Tuesday Oct 18\, 2011. </P></FONT></DIR></DIR></DIR></DIR></DIR></DIR></U><FONT color=#c00000><P><FONT face="Times New Roman">REGISTER ON LINE WITH CREDIT CARD AT</FONT></FONT><FONT color=#ff0000><FONT face="Times New Roman"> </FONT></B></FONT></SPAN><A href="http://www.northsachamber.com/"><B><U><FONT color=#0000ff><SPAN lang=EN><FONT face="Times New Roman">www.northsachamber.com</FONT></B></U></FONT></SPAN></A></P><B><FONT color=#ff0000 size=4><FONT color=#ff0000 size=4><SPAN lang=EN></B></FONT></FONT><FONT size=2 face=Arial><FONT size=2 face=Arial><P></P></FONT></FONT></SPAN></DIV>
LOCATION:Crowne Plaza San Antonio Airport
UID:e.2020.891
SEQUENCE:3
DTSTAMP:20260422T025614Z
URL:https://cm-dev.metrosa.com/events/details/2011-october-ambassador-lunch-meeting-10-19-2011-891
END:VEVENT

END:VCALENDAR
