BEGIN:VCALENDAR
VERSION:2.0
PRODID:-//ChamberMaster//Event Calendar 2.0//EN
METHOD:PUBLISH
X-PUBLISHED-TTL:P3D
REFRESH-INTERVAL:P3D
CALSCALE:GREGORIAN
BEGIN:VEVENT
DTSTART:20111027T121500Z
DTEND:20111027T140000Z
X-MICROSOFT-CDO-ALLDAYEVENT:FALSE
SUMMARY:2011 October CIO Breakfast
DESCRIPTION:Topic:  Is the role of Chief Information Officer in organizations becoming obsolete? Presenter:  Chris Blakemore Rapid technological change\, the cloud\, consumerization\, changing demographics\, economic shifts--these are just some of the factors that drive for a new look at the position we call Chief Information Officer.  Come join in an active discussion about  the changes we see in our businesses today and how they intersect with our leadership for Information Technology tomorrow.
X-ALT-DESC;FMTTYPE=text/html:<P class=MsoNormal style="MARGIN: 0in 0in 0pt"><SPAN style="COLOR: #1f497d"><FONT face=Calibri>Topic:&nbsp\; </FONT></SPAN><SPAN style="COLOR: #1f497d"><FONT face=Calibri>Is the role of Chief Information Officer in organizations becoming obsolete? </FONT></SPAN></P><P class=MsoNormal style="MARGIN: 0in 0in 0pt"><SPAN style="COLOR: #1f497d"><FONT face=Calibri>Presenter:&nbsp\; Chris Blakemore</FONT></SPAN></P><P class=MsoNormal style="MARGIN: 0in 0in 0pt"><SPAN style="COLOR: #1f497d"><?xml:namespace prefix = o ns = "urn:schemas-microsoft-com:office:office" /><o:p><FONT face=Calibri>&nbsp\;</FONT></o:p></SPAN></P><P class=MsoNormal style="MARGIN: 0in 0in 0pt"><SPAN style="COLOR: #1f497d"><FONT face=Calibri>Rapid technological change\, the cloud\, consumerization\, changing demographics\, economic shifts--these are just some of the factors that drive for a new look at the position we call Chief Information Officer.&nbsp\; Come join in an active discussion about &nbsp\;the changes we see in our businesses today and how they intersect with our leadership for Information Technology tomorrow.<o:p></o:p></FONT></SPAN></P><P>&nbsp\;</P>
LOCATION:Petroleum Club of San Antonio
UID:e.2020.855
SEQUENCE:3
DTSTAMP:20260422T025533Z
URL:https://cm-dev.metrosa.com/events/details/2011-october-cio-breakfast-10-27-2011-855
END:VEVENT

END:VCALENDAR
