BEGIN:VCALENDAR
VERSION:2.0
PRODID:-//ChamberMaster//Event Calendar 2.0//EN
METHOD:PUBLISH
X-PUBLISHED-TTL:P3D
REFRESH-INTERVAL:P3D
CALSCALE:GREGORIAN
BEGIN:VEVENT
DTSTART:20110928T163000Z
DTEND:20110928T180000Z
X-MICROSOFT-CDO-ALLDAYEVENT:FALSE
SUMMARY:2011 Sept. EWC Wrap-Up Luncheon
DESCRIPTION:
X-ALT-DESC;FMTTYPE=text/html:
LOCATION:Barbaresco
UID:e.2020.919
SEQUENCE:3
DTSTAMP:20260422T042627Z
URL:https://cm-dev.metrosa.com/events/details/2011-sept-ewc-wrap-up-luncheon-09-28-2011-919
END:VEVENT

END:VCALENDAR
